BEGIN:VCALENDAR
VERSION:2.0
PRODID:-//jEvents 2.0 for Joomla//EN
CALSCALE:GREGORIAN
METHOD:PUBLISH
BEGIN:VTIMEZONE
TZID:America/Kentucky/Louisville
BEGIN:STANDARD
DTSTART:20151101T010000
RDATE:20160313T030000
TZOFFSETFROM:-0400
TZOFFSETTO:-0500
TZNAME:America/Kentucky/Louisville EST
END:STANDARD
BEGIN:STANDARD
DTSTART:20161106T010000
RDATE:20170312T030000
TZOFFSETFROM:-0400
TZOFFSETTO:-0500
TZNAME:America/Kentucky/Louisville EST
END:STANDARD
BEGIN:STANDARD
DTSTART:20171105T010000
RDATE:20180311T030000
TZOFFSETFROM:-0400
TZOFFSETTO:-0500
TZNAME:America/Kentucky/Louisville EST
END:STANDARD
BEGIN:STANDARD
DTSTART:20181104T010000
RDATE:20190310T030000
TZOFFSETFROM:-0400
TZOFFSETTO:-0500
TZNAME:America/Kentucky/Louisville EST
END:STANDARD
BEGIN:STANDARD
DTSTART:20191103T010000
RDATE:20200308T030000
TZOFFSETFROM:-0400
TZOFFSETTO:-0500
TZNAME:America/Kentucky/Louisville EST
END:STANDARD
BEGIN:STANDARD
DTSTART:20201101T010000
RDATE:20210314T030000
TZOFFSETFROM:-0400
TZOFFSETTO:-0500
TZNAME:America/Kentucky/Louisville EST
END:STANDARD
BEGIN:DAYLIGHT
DTSTART:20150320T160000
RDATE:20151101T010000
TZOFFSETFROM:-0500
TZOFFSETTO:-0400
TZNAME:America/Kentucky/Louisville EDT
END:DAYLIGHT
BEGIN:DAYLIGHT
DTSTART:20160313T030000
RDATE:20161106T010000
TZOFFSETFROM:-0500
TZOFFSETTO:-0400
TZNAME:America/Kentucky/Louisville EDT
END:DAYLIGHT
BEGIN:DAYLIGHT
DTSTART:20170312T030000
RDATE:20171105T010000
TZOFFSETFROM:-0500
TZOFFSETTO:-0400
TZNAME:America/Kentucky/Louisville EDT
END:DAYLIGHT
BEGIN:DAYLIGHT
DTSTART:20180311T030000
RDATE:20181104T010000
TZOFFSETFROM:-0500
TZOFFSETTO:-0400
TZNAME:America/Kentucky/Louisville EDT
END:DAYLIGHT
BEGIN:DAYLIGHT
DTSTART:20190310T030000
RDATE:20191103T010000
TZOFFSETFROM:-0500
TZOFFSETTO:-0400
TZNAME:America/Kentucky/Louisville EDT
END:DAYLIGHT
BEGIN:DAYLIGHT
DTSTART:20200308T030000
RDATE:20201101T010000
TZOFFSETFROM:-0500
TZOFFSETTO:-0400
TZNAME:America/Kentucky/Louisville EDT
END:DAYLIGHT
END:VTIMEZONE
BEGIN:VEVENT
UID:83cc6d240a1e7172e689d2d177bafa27
CATEGORIES:Ongoing Community/Organizational Programming
CREATED:20160108T203526
SUMMARY:University of Louisville-Yearlings Club Spring Discussion Series
LOCATION:Yearlings Club, 4309 West Broadway
DESCRIPTION;ENCODING=QUOTED-PRINTABLE:<h2 style="text-align: center;">Women&rsquo;s History Month</h2><p>A salute
  to female leaders in business, government and the community.</p>
CONTACT:Clest Lanier at (502) 852-3042 or This email address is being protected from spambots. You need JavaScript enabled to view it.
				document.getElementById('cloak8a990f48b617cd69eb21f55194c3a9e5').innerHTML = '';
				var prefix = '&#109;a' + 'i&#108;' + '&#116;o';
				var path = 'hr' + 'ef' + '=';
				var addy8a990f48b617cd69eb21f55194c3a9e5 = 'cvl&#97;n&#105;01' + '&#64;';
				addy8a990f48b617cd69eb21f55194c3a9e5 = addy8a990f48b617cd69eb21f55194c3a9e5 + 'l&#111;&#117;&#105;sv&#105;ll&#101;' + '&#46;' + '&#101;d&#117;';
				var addy_text8a990f48b617cd69eb21f55194c3a9e5 = 'cvl&#97;n&#105;01' + '&#64;' + 'l&#111;&#117;&#105;sv&#105;ll&#101;' + '&#46;' + '&#101;d&#117;';document.getElementById('cloak8a990f48b617cd69eb21f55194c3a9e5').innerHTML += ''+addy_text8a990f48b617cd69eb21f55194c3a9e5+'';
		
DTSTAMP:20260422T053945Z
DTSTART;TZID=America/Kentucky/Louisville:20160320T160000
DTEND;TZID=America/Kentucky/Louisville:20160320T180000
SEQUENCE:0
TRANSP:OPAQUE
END:VEVENT
END:VCALENDAR