BEGIN:VCALENDAR
VERSION:2.0
PRODID:-//jEvents 2.0 for Joomla//EN
CALSCALE:GREGORIAN
METHOD:PUBLISH
BEGIN:VTIMEZONE
TZID:America/Kentucky/Louisville
BEGIN:STANDARD
DTSTART:20131103T010000
RDATE:20140309T030000
TZOFFSETFROM:-0400
TZOFFSETTO:-0500
TZNAME:America/Kentucky/Louisville EST
END:STANDARD
BEGIN:STANDARD
DTSTART:20141102T010000
RDATE:20150308T030000
TZOFFSETFROM:-0400
TZOFFSETTO:-0500
TZNAME:America/Kentucky/Louisville EST
END:STANDARD
BEGIN:STANDARD
DTSTART:20151101T010000
RDATE:20160313T030000
TZOFFSETFROM:-0400
TZOFFSETTO:-0500
TZNAME:America/Kentucky/Louisville EST
END:STANDARD
BEGIN:STANDARD
DTSTART:20161106T010000
RDATE:20170312T030000
TZOFFSETFROM:-0400
TZOFFSETTO:-0500
TZNAME:America/Kentucky/Louisville EST
END:STANDARD
BEGIN:STANDARD
DTSTART:20171105T010000
RDATE:20180311T030000
TZOFFSETFROM:-0400
TZOFFSETTO:-0500
TZNAME:America/Kentucky/Louisville EST
END:STANDARD
BEGIN:STANDARD
DTSTART:20181104T010000
RDATE:20190310T030000
TZOFFSETFROM:-0400
TZOFFSETTO:-0500
TZNAME:America/Kentucky/Louisville EST
END:STANDARD
BEGIN:STANDARD
DTSTART:20191103T010000
RDATE:20200308T030000
TZOFFSETFROM:-0400
TZOFFSETTO:-0500
TZNAME:America/Kentucky/Louisville EST
END:STANDARD
BEGIN:STANDARD
DTSTART:20201101T010000
RDATE:20210314T030000
TZOFFSETFROM:-0400
TZOFFSETTO:-0500
TZNAME:America/Kentucky/Louisville EST
END:STANDARD
BEGIN:DAYLIGHT
DTSTART:20131029T080000
RDATE:20131103T010000
TZOFFSETFROM:-0500
TZOFFSETTO:-0400
TZNAME:America/Kentucky/Louisville EDT
END:DAYLIGHT
BEGIN:DAYLIGHT
DTSTART:20140309T030000
RDATE:20141102T010000
TZOFFSETFROM:-0500
TZOFFSETTO:-0400
TZNAME:America/Kentucky/Louisville EDT
END:DAYLIGHT
BEGIN:DAYLIGHT
DTSTART:20150308T030000
RDATE:20151101T010000
TZOFFSETFROM:-0500
TZOFFSETTO:-0400
TZNAME:America/Kentucky/Louisville EDT
END:DAYLIGHT
BEGIN:DAYLIGHT
DTSTART:20160313T030000
RDATE:20161106T010000
TZOFFSETFROM:-0500
TZOFFSETTO:-0400
TZNAME:America/Kentucky/Louisville EDT
END:DAYLIGHT
BEGIN:DAYLIGHT
DTSTART:20170312T030000
RDATE:20171105T010000
TZOFFSETFROM:-0500
TZOFFSETTO:-0400
TZNAME:America/Kentucky/Louisville EDT
END:DAYLIGHT
BEGIN:DAYLIGHT
DTSTART:20180311T030000
RDATE:20181104T010000
TZOFFSETFROM:-0500
TZOFFSETTO:-0400
TZNAME:America/Kentucky/Louisville EDT
END:DAYLIGHT
BEGIN:DAYLIGHT
DTSTART:20190310T030000
RDATE:20191103T010000
TZOFFSETFROM:-0500
TZOFFSETTO:-0400
TZNAME:America/Kentucky/Louisville EDT
END:DAYLIGHT
BEGIN:DAYLIGHT
DTSTART:20200308T030000
RDATE:20201101T010000
TZOFFSETFROM:-0500
TZOFFSETTO:-0400
TZNAME:America/Kentucky/Louisville EDT
END:DAYLIGHT
END:VTIMEZONE
BEGIN:VEVENT
UID:eeff0ef606cdee0da4c4258f69289d1d
CATEGORIES:Community Event
CREATED:20141019T142811
SUMMARY:Louisville's 2nd Annual Financial Empowerment Summit: Topics and Strategies for Promoting Economic Inclusion
LOCATION:Hotel Louisville, 120 W. Broadway St
DESCRIPTION;ENCODING=QUOTED-PRINTABLE:\n\nJoin us for a summit to increase the understanding and capacity for the
  integration of Financial Empowerment.\n\n\nSpeakers include Rebecca Vallas
  – Center for American Progress, Kate Griffin – Corporation for Enterprise 
 Development (CFED), Michael Morris – National Disability Institute & Denise
  Belser – National League of Cities.\n\n\nTo register, please visit the Cen
 ter For Nonprofit Excellence (CNPE). Price is $40. Breakfast and lunch will
  be provided. You can receive CEUs or CRCs for attending.\n
CONTACT:Merv Antonio at This email address is being protected from spambots. You need JavaScript enabled to view it.
				document.getElementById('cloakdb7a7ecf3da9ac1248c454bef2ce7146').innerHTML = '';
				var prefix = '&#109;a' + 'i&#108;' + '&#116;o';
				var path = 'hr' + 'ef' + '=';
				var addydb7a7ecf3da9ac1248c454bef2ce7146 = 'm&#97;nt&#111;n&#105;&#111;' + '&#64;';
				addydb7a7ecf3da9ac1248c454bef2ce7146 = addydb7a7ecf3da9ac1248c454bef2ce7146 + 'cnp&#101;' + '&#46;' + '&#111;rg';
				var addy_textdb7a7ecf3da9ac1248c454bef2ce7146 = 'm&#97;nt&#111;n&#105;&#111;' + '&#64;' + 'cnp&#101;' + '&#46;' + '&#111;rg';document.getElementById('cloakdb7a7ecf3da9ac1248c454bef2ce7146').innerHTML += ''+addy_textdb7a7ecf3da9ac1248c454bef2ce7146+'';
		 or (502) 618-5328
DTSTAMP:20260419T094337Z
DTSTART;TZID=America/Kentucky/Louisville:20141030T080000
DTEND;TZID=America/Kentucky/Louisville:20141030T160000
SEQUENCE:0
TRANSP:OPAQUE
END:VEVENT
END:VCALENDAR