BEGIN:VCALENDAR
VERSION:2.0
PRODID:-//jEvents 2.0 for Joomla//EN
CALSCALE:GREGORIAN
METHOD:PUBLISH
BEGIN:VTIMEZONE
TZID:America/Kentucky/Louisville
BEGIN:STANDARD
DTSTART:20151101T010000
RDATE:20160313T030000
TZOFFSETFROM:-0400
TZOFFSETTO:-0500
TZNAME:America/Kentucky/Louisville EST
END:STANDARD
BEGIN:STANDARD
DTSTART:20161106T010000
RDATE:20170312T030000
TZOFFSETFROM:-0400
TZOFFSETTO:-0500
TZNAME:America/Kentucky/Louisville EST
END:STANDARD
BEGIN:STANDARD
DTSTART:20171105T010000
RDATE:20180311T030000
TZOFFSETFROM:-0400
TZOFFSETTO:-0500
TZNAME:America/Kentucky/Louisville EST
END:STANDARD
BEGIN:STANDARD
DTSTART:20181104T010000
RDATE:20190310T030000
TZOFFSETFROM:-0400
TZOFFSETTO:-0500
TZNAME:America/Kentucky/Louisville EST
END:STANDARD
BEGIN:STANDARD
DTSTART:20191103T010000
RDATE:20200308T030000
TZOFFSETFROM:-0400
TZOFFSETTO:-0500
TZNAME:America/Kentucky/Louisville EST
END:STANDARD
BEGIN:STANDARD
DTSTART:20201101T010000
RDATE:20210314T030000
TZOFFSETFROM:-0400
TZOFFSETTO:-0500
TZNAME:America/Kentucky/Louisville EST
END:STANDARD
BEGIN:DAYLIGHT
DTSTART:20151022T090000
RDATE:20151101T010000
TZOFFSETFROM:-0500
TZOFFSETTO:-0400
TZNAME:America/Kentucky/Louisville EDT
END:DAYLIGHT
BEGIN:DAYLIGHT
DTSTART:20160313T030000
RDATE:20161106T010000
TZOFFSETFROM:-0500
TZOFFSETTO:-0400
TZNAME:America/Kentucky/Louisville EDT
END:DAYLIGHT
BEGIN:DAYLIGHT
DTSTART:20170312T030000
RDATE:20171105T010000
TZOFFSETFROM:-0500
TZOFFSETTO:-0400
TZNAME:America/Kentucky/Louisville EDT
END:DAYLIGHT
BEGIN:DAYLIGHT
DTSTART:20180311T030000
RDATE:20181104T010000
TZOFFSETFROM:-0500
TZOFFSETTO:-0400
TZNAME:America/Kentucky/Louisville EDT
END:DAYLIGHT
BEGIN:DAYLIGHT
DTSTART:20190310T030000
RDATE:20191103T010000
TZOFFSETFROM:-0500
TZOFFSETTO:-0400
TZNAME:America/Kentucky/Louisville EDT
END:DAYLIGHT
BEGIN:DAYLIGHT
DTSTART:20200308T030000
RDATE:20201101T010000
TZOFFSETFROM:-0500
TZOFFSETTO:-0400
TZNAME:America/Kentucky/Louisville EDT
END:DAYLIGHT
END:VTIMEZONE
BEGIN:VEVENT
UID:03c2f01fd3f7b7f43e1dfba60adefb48
CATEGORIES:Community Event
CREATED:20161006T203105
SUMMARY:Chickasaw Brightside Community-wide Cleanup Day
DESCRIPTION;ENCODING=QUOTED-PRINTABLE:<p>The <span id="cloakc7be9926337ebafda9c6119c97f790fd">This email address 
 is being protected from spambots. You need JavaScript enabled to view it.</
 span><script type='text/javascript'>
				document.getElementById('cloakc7be
 9926337ebafda9c6119c97f790fd').innerHTML = '';
				var prefix = '&#109;a' +
  'i&#108;' + '&#116;o';
				var path = 'hr' + 'ef' + '=';
				var addyc7be9
 926337ebafda9c6119c97f790fd = 'ch&#105;ck&#97;s&#97;w&#117;n&#105;ty' + '&#
 64;';
				addyc7be9926337ebafda9c6119c97f790fd = addyc7be9926337ebafda9c611
 9c97f790fd + 'y&#97;h&#111;&#111;' + '&#46;' + 'c&#111;m?s&#117;bj&#101;ct=
 C&#111;mm&#117;n&#105;ty-w&#105;d&#101;%20Cl&#101;&#97;n&#117;p%20D&#97;y';
 
				var addy_textc7be9926337ebafda9c6119c97f790fd = 'Ch&#105;ck&#97;s&#97;
 w N&#101;&#105;ghb&#111;rh&#111;&#111;d F&#101;d&#101;r&#97;t&#105;&#111;n'
 ;document.getElementById('cloakc7be9926337ebafda9c6119c97f790fd').innerHTML
  += '<a ' + path + '\'' + prefix + ':' + addyc7be9926337ebafda9c6119c97f790
 fd + '\' target="_blank">'+addy_textc7be9926337ebafda9c6119c97f790fd+'<\/a>
 ';
		</script> welcomes area youth, residents, church and business voluntee
 rs.</p><p>We seek more adult male volunteers to join our youth.</p>
DTSTAMP:20260421T101652Z
DTSTART;TZID=America/Kentucky/Louisville:20161022T090000
DTEND;TZID=America/Kentucky/Louisville:20161022T120000
SEQUENCE:0
TRANSP:OPAQUE
END:VEVENT
END:VCALENDAR