BEGIN:VCALENDAR
VERSION:2.0
PRODID:-//jEvents 2.0 for Joomla//EN
CALSCALE:GREGORIAN
METHOD:PUBLISH
BEGIN:VTIMEZONE
TZID:America/Kentucky/Louisville
BEGIN:STANDARD
DTSTART:20151101T010000
RDATE:20160313T030000
TZOFFSETFROM:-0400
TZOFFSETTO:-0500
TZNAME:America/Kentucky/Louisville EST
END:STANDARD
BEGIN:STANDARD
DTSTART:20161106T010000
RDATE:20170312T030000
TZOFFSETFROM:-0400
TZOFFSETTO:-0500
TZNAME:America/Kentucky/Louisville EST
END:STANDARD
BEGIN:STANDARD
DTSTART:20171105T010000
RDATE:20180311T030000
TZOFFSETFROM:-0400
TZOFFSETTO:-0500
TZNAME:America/Kentucky/Louisville EST
END:STANDARD
BEGIN:STANDARD
DTSTART:20181104T010000
RDATE:20190310T030000
TZOFFSETFROM:-0400
TZOFFSETTO:-0500
TZNAME:America/Kentucky/Louisville EST
END:STANDARD
BEGIN:STANDARD
DTSTART:20191103T010000
RDATE:20200308T030000
TZOFFSETFROM:-0400
TZOFFSETTO:-0500
TZNAME:America/Kentucky/Louisville EST
END:STANDARD
BEGIN:STANDARD
DTSTART:20201101T010000
RDATE:20210314T030000
TZOFFSETFROM:-0400
TZOFFSETTO:-0500
TZNAME:America/Kentucky/Louisville EST
END:STANDARD
BEGIN:DAYLIGHT
DTSTART:20151020T183000
RDATE:20151101T010000
TZOFFSETFROM:-0500
TZOFFSETTO:-0400
TZNAME:America/Kentucky/Louisville EDT
END:DAYLIGHT
BEGIN:DAYLIGHT
DTSTART:20160313T030000
RDATE:20161106T010000
TZOFFSETFROM:-0500
TZOFFSETTO:-0400
TZNAME:America/Kentucky/Louisville EDT
END:DAYLIGHT
BEGIN:DAYLIGHT
DTSTART:20170312T030000
RDATE:20171105T010000
TZOFFSETFROM:-0500
TZOFFSETTO:-0400
TZNAME:America/Kentucky/Louisville EDT
END:DAYLIGHT
BEGIN:DAYLIGHT
DTSTART:20180311T030000
RDATE:20181104T010000
TZOFFSETFROM:-0500
TZOFFSETTO:-0400
TZNAME:America/Kentucky/Louisville EDT
END:DAYLIGHT
BEGIN:DAYLIGHT
DTSTART:20190310T030000
RDATE:20191103T010000
TZOFFSETFROM:-0500
TZOFFSETTO:-0400
TZNAME:America/Kentucky/Louisville EDT
END:DAYLIGHT
BEGIN:DAYLIGHT
DTSTART:20200308T030000
RDATE:20201101T010000
TZOFFSETFROM:-0500
TZOFFSETTO:-0400
TZNAME:America/Kentucky/Louisville EDT
END:DAYLIGHT
END:VTIMEZONE
BEGIN:VEVENT
UID:5c719bafc1dcf5be9b8d707b4ee0f2d7
CATEGORIES:Community Event
CREATED:20161014T032458
SUMMARY:Shawnee Neighborhood Association Meeting
DESCRIPTION;ENCODING=QUOTED-PRINTABLE:\n\n\n
CONTACT:Call Billie Castle at 502-852-6539 or email This email address is being protected from spambots. You need JavaScript enabled to view it.
				document.getElementById('cloak37aa896db9a9732007ed2210743df94b').innerHTML = '';
				var prefix = '&#109;a' + 'i&#108;' + '&#116;o';
				var path = 'hr' + 'ef' + '=';
				var addy37aa896db9a9732007ed2210743df94b = 'b&#105;ll&#105;&#101;.c&#97;stl&#101;' + '&#64;';
				addy37aa896db9a9732007ed2210743df94b = addy37aa896db9a9732007ed2210743df94b + 'l&#111;&#117;&#105;sv&#105;ll&#101;' + '&#46;' + '&#101;d&#117;';
				var addy_text37aa896db9a9732007ed2210743df94b = 'b&#105;ll&#105;&#101;.c&#97;stl&#101;' + '&#64;' + 'l&#111;&#117;&#105;sv&#105;ll&#101;' + '&#46;' + '&#101;d&#117;';document.getElementById('cloak37aa896db9a9732007ed2210743df94b').innerHTML += ''+addy_text37aa896db9a9732007ed2210743df94b+'';
		
DTSTAMP:20260421T065501Z
DTSTART;TZID=America/Kentucky/Louisville:20161020T183000
DTEND;TZID=America/Kentucky/Louisville:20161020T200000
SEQUENCE:0
TRANSP:OPAQUE
END:VEVENT
END:VCALENDAR