BEGIN:VCALENDAR
VERSION:2.0
PRODID:-//jEvents 2.0 for Joomla//EN
CALSCALE:GREGORIAN
METHOD:PUBLISH
BEGIN:VTIMEZONE
TZID:America/Kentucky/Louisville
BEGIN:STANDARD
DTSTART:20151101T010000
RDATE:20160313T030000
TZOFFSETFROM:-0400
TZOFFSETTO:-0500
TZNAME:America/Kentucky/Louisville EST
END:STANDARD
BEGIN:STANDARD
DTSTART:20161106T010000
RDATE:20170312T030000
TZOFFSETFROM:-0400
TZOFFSETTO:-0500
TZNAME:America/Kentucky/Louisville EST
END:STANDARD
BEGIN:STANDARD
DTSTART:20171105T010000
RDATE:20180311T030000
TZOFFSETFROM:-0400
TZOFFSETTO:-0500
TZNAME:America/Kentucky/Louisville EST
END:STANDARD
BEGIN:STANDARD
DTSTART:20181104T010000
RDATE:20190310T030000
TZOFFSETFROM:-0400
TZOFFSETTO:-0500
TZNAME:America/Kentucky/Louisville EST
END:STANDARD
BEGIN:STANDARD
DTSTART:20191103T010000
RDATE:20200308T030000
TZOFFSETFROM:-0400
TZOFFSETTO:-0500
TZNAME:America/Kentucky/Louisville EST
END:STANDARD
BEGIN:STANDARD
DTSTART:20201101T010000
RDATE:20210314T030000
TZOFFSETFROM:-0400
TZOFFSETTO:-0500
TZNAME:America/Kentucky/Louisville EST
END:STANDARD
BEGIN:DAYLIGHT
DTSTART:20151020T113000
RDATE:20151101T010000
TZOFFSETFROM:-0500
TZOFFSETTO:-0400
TZNAME:America/Kentucky/Louisville EDT
END:DAYLIGHT
BEGIN:DAYLIGHT
DTSTART:20160313T030000
RDATE:20161106T010000
TZOFFSETFROM:-0500
TZOFFSETTO:-0400
TZNAME:America/Kentucky/Louisville EDT
END:DAYLIGHT
BEGIN:DAYLIGHT
DTSTART:20170312T030000
RDATE:20171105T010000
TZOFFSETFROM:-0500
TZOFFSETTO:-0400
TZNAME:America/Kentucky/Louisville EDT
END:DAYLIGHT
BEGIN:DAYLIGHT
DTSTART:20180311T030000
RDATE:20181104T010000
TZOFFSETFROM:-0500
TZOFFSETTO:-0400
TZNAME:America/Kentucky/Louisville EDT
END:DAYLIGHT
BEGIN:DAYLIGHT
DTSTART:20190310T030000
RDATE:20191103T010000
TZOFFSETFROM:-0500
TZOFFSETTO:-0400
TZNAME:America/Kentucky/Louisville EDT
END:DAYLIGHT
BEGIN:DAYLIGHT
DTSTART:20200308T030000
RDATE:20201101T010000
TZOFFSETFROM:-0500
TZOFFSETTO:-0400
TZNAME:America/Kentucky/Louisville EDT
END:DAYLIGHT
END:VTIMEZONE
BEGIN:VEVENT
UID:0e88c9f4587ac7dc6e73e0f937ca06f0
CATEGORIES:Community Event
CREATED:20161015T043456
SUMMARY:Urban City Advocates LLC presents Fall Black Business Showcase
LOCATION:822 Renew
DESCRIPTION;ENCODING=QUOTED-PRINTABLE:<p>Urban City Advocates (UCA) LLC, an initiative of Protest to Progress Inc
 . presents its first Fall Black Business Showcase.</p><p>All businesses are
  welcome to participate:</p><ul><li>to market their businesses</li><li>sell
  products and services</li></ul>
X-EXTRAINFO:For information on participation and obtaining a table email: This email ad
 dress is being protected from spambots. You need JavaScript enabled to view
  it.
				document.getElementById('cloak7359a0580ef0181ac407b1ab8bfee650').i
 nnerHTML = '';
				var prefix = '&#109;a' + 'i&#108;' + '&#116;o';
				var 
 path = 'hr' + 'ef' + '=';
				var addy7359a0580ef0181ac407b1ab8bfee650 = 'k
 p&#117;rb&#97;nc&#105;ty&#97;dv&#111;c&#97;t&#101;s' + '&#64;';
				addy735
 9a0580ef0181ac407b1ab8bfee650 = addy7359a0580ef0181ac407b1ab8bfee650 + 'gm&
 #97;&#105;l' + '&#46;' + 'c&#111;m';
				var addy_text7359a0580ef0181ac407b
 1ab8bfee650 = 'kp&#117;rb&#97;nc&#105;ty&#97;dv&#111;c&#97;t&#101;s' + '&#6
 4;' + 'gm&#97;&#105;l' + '&#46;' + 'c&#111;m';document.getElementById('cloa
 k7359a0580ef0181ac407b1ab8bfee650').innerHTML += ''+addy_text7359a0580ef018
 1ac407b1ab8bfee650+'';
		 or call 470-362-0317.
DTSTAMP:20260419T121626Z
DTSTART;TZID=America/Kentucky/Louisville:20161020T113000
DTEND;TZID=America/Kentucky/Louisville:20161020T183000
SEQUENCE:0
TRANSP:OPAQUE
END:VEVENT
END:VCALENDAR