BEGIN:VCALENDAR
VERSION:2.0
PRODID:-//jEvents 2.0 for Joomla//EN
CALSCALE:GREGORIAN
METHOD:PUBLISH
BEGIN:VTIMEZONE
TZID:America/Kentucky/Louisville
BEGIN:STANDARD
DTSTART:20160213T174500
RDATE:20160313T030000
TZOFFSETFROM:-0400
TZOFFSETTO:-0500
TZNAME:America/Kentucky/Louisville EST
END:STANDARD
BEGIN:STANDARD
DTSTART:20161106T010000
RDATE:20170312T030000
TZOFFSETFROM:-0400
TZOFFSETTO:-0500
TZNAME:America/Kentucky/Louisville EST
END:STANDARD
BEGIN:STANDARD
DTSTART:20171105T010000
RDATE:20180311T030000
TZOFFSETFROM:-0400
TZOFFSETTO:-0500
TZNAME:America/Kentucky/Louisville EST
END:STANDARD
BEGIN:STANDARD
DTSTART:20181104T010000
RDATE:20190310T030000
TZOFFSETFROM:-0400
TZOFFSETTO:-0500
TZNAME:America/Kentucky/Louisville EST
END:STANDARD
BEGIN:STANDARD
DTSTART:20191103T010000
RDATE:20200308T030000
TZOFFSETFROM:-0400
TZOFFSETTO:-0500
TZNAME:America/Kentucky/Louisville EST
END:STANDARD
BEGIN:STANDARD
DTSTART:20201101T010000
RDATE:20210314T030000
TZOFFSETFROM:-0400
TZOFFSETTO:-0500
TZNAME:America/Kentucky/Louisville EST
END:STANDARD
BEGIN:DAYLIGHT
DTSTART:20160313T030000
RDATE:20161106T010000
TZOFFSETFROM:-0500
TZOFFSETTO:-0400
TZNAME:America/Kentucky/Louisville EDT
END:DAYLIGHT
BEGIN:DAYLIGHT
DTSTART:20170312T030000
RDATE:20171105T010000
TZOFFSETFROM:-0500
TZOFFSETTO:-0400
TZNAME:America/Kentucky/Louisville EDT
END:DAYLIGHT
BEGIN:DAYLIGHT
DTSTART:20180311T030000
RDATE:20181104T010000
TZOFFSETFROM:-0500
TZOFFSETTO:-0400
TZNAME:America/Kentucky/Louisville EDT
END:DAYLIGHT
BEGIN:DAYLIGHT
DTSTART:20190310T030000
RDATE:20191103T010000
TZOFFSETFROM:-0500
TZOFFSETTO:-0400
TZNAME:America/Kentucky/Louisville EDT
END:DAYLIGHT
BEGIN:DAYLIGHT
DTSTART:20200308T030000
RDATE:20201101T010000
TZOFFSETFROM:-0500
TZOFFSETTO:-0400
TZNAME:America/Kentucky/Louisville EDT
END:DAYLIGHT
END:VTIMEZONE
BEGIN:VEVENT
UID:2e59ad9fd4f4921698a8dafe06bfb1a9
CATEGORIES:Community Event
CREATED:20170122T070013
SUMMARY:The Forgotten Stories of Neoslavery – Documentary
LOCATION:Western Branch Public Library
DESCRIPTION;ENCODING=QUOTED-PRINTABLE:<p class="p1">Duane Campbell, Lecturer</p>
X-EXTRAINFO:Elmer Lucille Allen – 502-773-0806\nVolunteer: This email address is being 
 protected from spambots. You need JavaScript enabled to view it.
				docume
 nt.getElementById('cloake55de028878f5bbed93a03a7b783f6fe').innerHTML = '';

 				var prefix = '&#109;a' + 'i&#108;' + '&#116;o';
				var path = 'hr' + '
 ef' + '=';
				var addye55de028878f5bbed93a03a7b783f6fe = '&#101;lm&#101;r_
 l&#117;c&#105;ll&#101;_&#97;ll&#101;n' + '&#64;';
				addye55de028878f5bbed
 93a03a7b783f6fe = addye55de028878f5bbed93a03a7b783f6fe + 'y&#97;h&#111;&#11
 1;' + '&#46;' + 'c&#111;m';
				var addy_texte55de028878f5bbed93a03a7b783f6
 fe = '&#101;lm&#101;r_l&#117;c&#105;ll&#101;_&#97;ll&#101;n' + '&#64;' + 'y
 &#97;h&#111;&#111;' + '&#46;' + 'c&#111;m';document.getElementById('cloake5
 5de028878f5bbed93a03a7b783f6fe').innerHTML += ''+addy_texte55de028878f5bbed
 93a03a7b783f6fe+'';
		\nLaura Strickland – 502-574-1779\nWestern Branch Lib
 rary, Manager\nThis email address is being protected from spambots. You nee
 d JavaScript enabled to view it.
				document.getElementById('cloaka2503d81
 b7d5140b286726c8b08ab171').innerHTML = '';
				var prefix = '&#109;a' + 'i&
 #108;' + '&#116;o';
				var path = 'hr' + 'ef' + '=';
				var addya2503d81b
 7d5140b286726c8b08ab171 = 'L&#97;&#117;r&#97;.str&#105;ckl&#97;nd' + '&#64;
 ';
				addya2503d81b7d5140b286726c8b08ab171 = addya2503d81b7d5140b286726c8b
 08ab171 + 'lfpl' + '&#46;' + '&#111;rg';
				var addy_texta2503d81b7d5140b2
 86726c8b08ab171 = 'L&#97;&#117;r&#97;.str&#105;ckl&#97;nd' + '&#64;' + 'lfp
 l' + '&#46;' + '&#111;rg';document.getElementById('cloaka2503d81b7d5140b286
 726c8b08ab171').innerHTML += ''+addy_texta2503d81b7d5140b286726c8b08ab171+'
 ';
		
DTSTAMP:20260424T123132Z
DTSTART;TZID=America/Kentucky/Louisville:20170213T174500
DTEND;TZID=America/Kentucky/Louisville:20170213T194500
SEQUENCE:0
TRANSP:OPAQUE
END:VEVENT
END:VCALENDAR