BEGIN:VCALENDAR
VERSION:2.0
PRODID:-//jEvents 2.0 for Joomla//EN
CALSCALE:GREGORIAN
METHOD:PUBLISH
BEGIN:VTIMEZONE
TZID:America/Kentucky/Louisville
BEGIN:STANDARD
DTSTART:20160122T160000
RDATE:20160313T030000
TZOFFSETFROM:-0400
TZOFFSETTO:-0500
TZNAME:America/Kentucky/Louisville EST
END:STANDARD
BEGIN:STANDARD
DTSTART:20161106T010000
RDATE:20170312T030000
TZOFFSETFROM:-0400
TZOFFSETTO:-0500
TZNAME:America/Kentucky/Louisville EST
END:STANDARD
BEGIN:STANDARD
DTSTART:20171105T010000
RDATE:20180311T030000
TZOFFSETFROM:-0400
TZOFFSETTO:-0500
TZNAME:America/Kentucky/Louisville EST
END:STANDARD
BEGIN:STANDARD
DTSTART:20181104T010000
RDATE:20190310T030000
TZOFFSETFROM:-0400
TZOFFSETTO:-0500
TZNAME:America/Kentucky/Louisville EST
END:STANDARD
BEGIN:STANDARD
DTSTART:20191103T010000
RDATE:20200308T030000
TZOFFSETFROM:-0400
TZOFFSETTO:-0500
TZNAME:America/Kentucky/Louisville EST
END:STANDARD
BEGIN:STANDARD
DTSTART:20201101T010000
RDATE:20210314T030000
TZOFFSETFROM:-0400
TZOFFSETTO:-0500
TZNAME:America/Kentucky/Louisville EST
END:STANDARD
BEGIN:DAYLIGHT
DTSTART:20160313T030000
RDATE:20161106T010000
TZOFFSETFROM:-0500
TZOFFSETTO:-0400
TZNAME:America/Kentucky/Louisville EDT
END:DAYLIGHT
BEGIN:DAYLIGHT
DTSTART:20170312T030000
RDATE:20171105T010000
TZOFFSETFROM:-0500
TZOFFSETTO:-0400
TZNAME:America/Kentucky/Louisville EDT
END:DAYLIGHT
BEGIN:DAYLIGHT
DTSTART:20180311T030000
RDATE:20181104T010000
TZOFFSETFROM:-0500
TZOFFSETTO:-0400
TZNAME:America/Kentucky/Louisville EDT
END:DAYLIGHT
BEGIN:DAYLIGHT
DTSTART:20190310T030000
RDATE:20191103T010000
TZOFFSETFROM:-0500
TZOFFSETTO:-0400
TZNAME:America/Kentucky/Louisville EDT
END:DAYLIGHT
BEGIN:DAYLIGHT
DTSTART:20200308T030000
RDATE:20201101T010000
TZOFFSETFROM:-0500
TZOFFSETTO:-0400
TZNAME:America/Kentucky/Louisville EDT
END:DAYLIGHT
END:VTIMEZONE
BEGIN:VEVENT
UID:65078b9baf0ab57c0bd6e8a7e49062d1
CATEGORIES:Ongoing Community/Organizational Programming
CREATED:20170122T075202
SUMMARY:University of Louisville/Yearlings Club Forum Series Presents
LOCATION:The Yearlings Club
DESCRIPTION;ENCODING=QUOTED-PRINTABLE:<h2 style="text-align: center;">Putting Students First: Creating A Communit
 y of Learners<br />Sunday, January 22 from 4-6p.m.<br />The Yearlings Club,
  4309 W. Broadway</h2><p>While test scores for JCPS African American studen
 ts in the urban core district have improved overall, there are concerns abo
 ut the slow rate of improvement.</p><p>A distinguished panel of experts wil
 l discuss what is being done currently to address the disparity, and, offer
  their perspective on the steps needed to address the educational needs of 
 urban youth to prepare them for future success.</p><p>INVITED PANELISTS: Dr
 . Donna Hargens, Superintendent, JCPS; Honorable Hal Heiner, Secretary of<b
 r />Education and Workforce Development Cabinet; Mr. Brent McKim, President
 , JCTA;</p><p>MODERATOR: Dr. Carson Byrd, University of Louisville, Departm
 ent for Pan African Studies</p>
DTSTAMP:20260422T103207Z
DTSTART;TZID=America/Kentucky/Louisville:20170122T160000
DTEND;TZID=America/Kentucky/Louisville:20170122T180000
SEQUENCE:0
TRANSP:OPAQUE
END:VEVENT
END:VCALENDAR