BEGIN:VCALENDAR
VERSION:2.0
PRODID:-//jEvents 2.0 for Joomla//EN
CALSCALE:GREGORIAN
METHOD:PUBLISH
BEGIN:VTIMEZONE
TZID:America/Kentucky/Louisville
BEGIN:STANDARD
DTSTART:20160123T130000
RDATE:20160313T030000
TZOFFSETFROM:-0400
TZOFFSETTO:-0500
TZNAME:America/Kentucky/Louisville EST
END:STANDARD
BEGIN:STANDARD
DTSTART:20161106T010000
RDATE:20170312T030000
TZOFFSETFROM:-0400
TZOFFSETTO:-0500
TZNAME:America/Kentucky/Louisville EST
END:STANDARD
BEGIN:STANDARD
DTSTART:20171105T010000
RDATE:20180311T030000
TZOFFSETFROM:-0400
TZOFFSETTO:-0500
TZNAME:America/Kentucky/Louisville EST
END:STANDARD
BEGIN:STANDARD
DTSTART:20181104T010000
RDATE:20190310T030000
TZOFFSETFROM:-0400
TZOFFSETTO:-0500
TZNAME:America/Kentucky/Louisville EST
END:STANDARD
BEGIN:STANDARD
DTSTART:20191103T010000
RDATE:20200308T030000
TZOFFSETFROM:-0400
TZOFFSETTO:-0500
TZNAME:America/Kentucky/Louisville EST
END:STANDARD
BEGIN:STANDARD
DTSTART:20201101T010000
RDATE:20210314T030000
TZOFFSETFROM:-0400
TZOFFSETTO:-0500
TZNAME:America/Kentucky/Louisville EST
END:STANDARD
BEGIN:DAYLIGHT
DTSTART:20160313T030000
RDATE:20161106T010000
TZOFFSETFROM:-0500
TZOFFSETTO:-0400
TZNAME:America/Kentucky/Louisville EDT
END:DAYLIGHT
BEGIN:DAYLIGHT
DTSTART:20170312T030000
RDATE:20171105T010000
TZOFFSETFROM:-0500
TZOFFSETTO:-0400
TZNAME:America/Kentucky/Louisville EDT
END:DAYLIGHT
BEGIN:DAYLIGHT
DTSTART:20180311T030000
RDATE:20181104T010000
TZOFFSETFROM:-0500
TZOFFSETTO:-0400
TZNAME:America/Kentucky/Louisville EDT
END:DAYLIGHT
BEGIN:DAYLIGHT
DTSTART:20190310T030000
RDATE:20191103T010000
TZOFFSETFROM:-0500
TZOFFSETTO:-0400
TZNAME:America/Kentucky/Louisville EDT
END:DAYLIGHT
BEGIN:DAYLIGHT
DTSTART:20200308T030000
RDATE:20201101T010000
TZOFFSETFROM:-0500
TZOFFSETTO:-0400
TZNAME:America/Kentucky/Louisville EDT
END:DAYLIGHT
END:VTIMEZONE
BEGIN:VEVENT
UID:96fc31b9fdeb21b29c666a33cc0ab00a
CATEGORIES:Workshop
CREATED:20170122T075256
SUMMARY:Diabetes Self-Management Class Series
LOCATION:Shawnee Neighborhood Association Community Room
DESCRIPTION;ENCODING=QUOTED-PRINTABLE:<h3 class="p2" style="text-align: center;">Louisville Metro Public Health a
 nd Wellness<br />Monday, January 23rd from 1:00 pm to 3:30 pm<br />Shawnee 
 Neighborhood Association Community Room - 224 Amy Avenue</h3><p>Have you be
 en diagnosed with diabetes, but are not sure how to manage your condition?<
 /p><p>Whether you are recently diagnosed or have been diabetic for years an
 d need a refresher, this class is for you!<br />Topics covered will include
  what is diabetes, glucose monitoring, problem solving, healthy eating, med
 ication management, sick day management, healthy exercise, and goal setting
 .</p><p>The Diabetes Self-Management Class Series will be held in conjuncti
 on with Louisville Metro Public Health and Wellness on Monday through Janua
 ry 23rd from 1:00 pm to 3:30 pm at the Shawnee Neighborhood Association Com
 munity Room located at 224 Amy Avenue.</p><p>To register please contact She
 rita Vernon at the Shawnee Community Healthcare Center at 502-778-0001, ext
 . 1406 or call 502-574-6663.</p>
DTSTAMP:20260424T080401Z
DTSTART;TZID=America/Kentucky/Louisville:20170123T130000
DTEND;TZID=America/Kentucky/Louisville:20170123T153000
SEQUENCE:0
TRANSP:OPAQUE
END:VEVENT
END:VCALENDAR