BEGIN:VCALENDAR
VERSION:2.0
PRODID:-//jEvents 2.0 for Joomla//EN
CALSCALE:GREGORIAN
METHOD:PUBLISH
BEGIN:VTIMEZONE
TZID:America/Kentucky/Louisville
BEGIN:STANDARD
DTSTART:20161106T010000
RDATE:20170312T030000
TZOFFSETFROM:-0400
TZOFFSETTO:-0500
TZNAME:America/Kentucky/Louisville EST
END:STANDARD
BEGIN:STANDARD
DTSTART:20171105T010000
RDATE:20180311T030000
TZOFFSETFROM:-0400
TZOFFSETTO:-0500
TZNAME:America/Kentucky/Louisville EST
END:STANDARD
BEGIN:STANDARD
DTSTART:20181104T010000
RDATE:20190310T030000
TZOFFSETFROM:-0400
TZOFFSETTO:-0500
TZNAME:America/Kentucky/Louisville EST
END:STANDARD
BEGIN:STANDARD
DTSTART:20191103T010000
RDATE:20200308T030000
TZOFFSETFROM:-0400
TZOFFSETTO:-0500
TZNAME:America/Kentucky/Louisville EST
END:STANDARD
BEGIN:STANDARD
DTSTART:20201101T010000
RDATE:20210314T030000
TZOFFSETFROM:-0400
TZOFFSETTO:-0500
TZNAME:America/Kentucky/Louisville EST
END:STANDARD
BEGIN:DAYLIGHT
DTSTART:20160519T073000
RDATE:20161106T010000
TZOFFSETFROM:-0500
TZOFFSETTO:-0400
TZNAME:America/Kentucky/Louisville EDT
END:DAYLIGHT
BEGIN:DAYLIGHT
DTSTART:20170312T030000
RDATE:20171105T010000
TZOFFSETFROM:-0500
TZOFFSETTO:-0400
TZNAME:America/Kentucky/Louisville EDT
END:DAYLIGHT
BEGIN:DAYLIGHT
DTSTART:20180311T030000
RDATE:20181104T010000
TZOFFSETFROM:-0500
TZOFFSETTO:-0400
TZNAME:America/Kentucky/Louisville EDT
END:DAYLIGHT
BEGIN:DAYLIGHT
DTSTART:20190310T030000
RDATE:20191103T010000
TZOFFSETFROM:-0500
TZOFFSETTO:-0400
TZNAME:America/Kentucky/Louisville EDT
END:DAYLIGHT
BEGIN:DAYLIGHT
DTSTART:20200308T030000
RDATE:20201101T010000
TZOFFSETFROM:-0500
TZOFFSETTO:-0400
TZNAME:America/Kentucky/Louisville EDT
END:DAYLIGHT
END:VTIMEZONE
BEGIN:VEVENT
UID:64ac69fabece885486e8db12dc0bec49
CATEGORIES:Community Event
CREATED:20170505T011723
SUMMARY:Vision 5K
LOCATION:Louisville Central Community Center
DESCRIPTION;ENCODING=QUOTED-PRINTABLE:May 20th Check-in at 7:30a.m., Race start 8:30 a.m.\n\n\nLouisville Central
  Community Center&rsquo;s Teen Leadership Council is hosting a 5k run/walk 
 to inspire transformative change in west Louisville. This &ldquo;Healthy Ho
 metown&rdquo; event supports the movement towards improved economic conditi
 ons and empowers youth to have a voice in the community. Visit this link or
  call 502-583-8821 for more information, to register or to volunteer.\n
DTSTAMP:20260422T124549Z
DTSTART;TZID=America/Kentucky/Louisville:20170520T073000
DTEND;TZID=America/Kentucky/Louisville:20170520T100000
SEQUENCE:0
TRANSP:OPAQUE
END:VEVENT
END:VCALENDAR