BEGIN:VCALENDAR
VERSION:2.0
PRODID:-//jEvents 2.0 for Joomla//EN
CALSCALE:GREGORIAN
METHOD:PUBLISH
BEGIN:VTIMEZONE
TZID:America/Kentucky/Louisville
BEGIN:STANDARD
DTSTART:20161106T010000
RDATE:20170312T030000
TZOFFSETFROM:-0400
TZOFFSETTO:-0500
TZNAME:America/Kentucky/Louisville EST
END:STANDARD
BEGIN:STANDARD
DTSTART:20171105T010000
RDATE:20180311T030000
TZOFFSETFROM:-0400
TZOFFSETTO:-0500
TZNAME:America/Kentucky/Louisville EST
END:STANDARD
BEGIN:STANDARD
DTSTART:20181104T010000
RDATE:20190310T030000
TZOFFSETFROM:-0400
TZOFFSETTO:-0500
TZNAME:America/Kentucky/Louisville EST
END:STANDARD
BEGIN:STANDARD
DTSTART:20191103T010000
RDATE:20200308T030000
TZOFFSETFROM:-0400
TZOFFSETTO:-0500
TZNAME:America/Kentucky/Louisville EST
END:STANDARD
BEGIN:STANDARD
DTSTART:20201101T010000
RDATE:20210314T030000
TZOFFSETFROM:-0400
TZOFFSETTO:-0500
TZNAME:America/Kentucky/Louisville EST
END:STANDARD
BEGIN:DAYLIGHT
DTSTART:20160519T080000
RDATE:20161106T010000
TZOFFSETFROM:-0500
TZOFFSETTO:-0400
TZNAME:America/Kentucky/Louisville EDT
END:DAYLIGHT
BEGIN:DAYLIGHT
DTSTART:20170312T030000
RDATE:20171105T010000
TZOFFSETFROM:-0500
TZOFFSETTO:-0400
TZNAME:America/Kentucky/Louisville EDT
END:DAYLIGHT
BEGIN:DAYLIGHT
DTSTART:20180311T030000
RDATE:20181104T010000
TZOFFSETFROM:-0500
TZOFFSETTO:-0400
TZNAME:America/Kentucky/Louisville EDT
END:DAYLIGHT
BEGIN:DAYLIGHT
DTSTART:20190310T030000
RDATE:20191103T010000
TZOFFSETFROM:-0500
TZOFFSETTO:-0400
TZNAME:America/Kentucky/Louisville EDT
END:DAYLIGHT
BEGIN:DAYLIGHT
DTSTART:20200308T030000
RDATE:20201101T010000
TZOFFSETFROM:-0500
TZOFFSETTO:-0400
TZNAME:America/Kentucky/Louisville EDT
END:DAYLIGHT
END:VTIMEZONE
BEGIN:VEVENT
UID:733d433fbccfcbaa13ed4cda00940117
CATEGORIES:Community Event
CREATED:20170505T013101
SUMMARY:Sista Strut Louisville Walk/Run and Rally
LOCATION:Shawnee Park Pavilion
DESCRIPTION;ENCODING=QUOTED-PRINTABLE:<p>The community is invited to attend the Sista Strut Louisville Walk/Run a
 nd Rally on Saturday, May 20th from 8 am to 12 noon. There will be a 3K wal
 k and a 5K to 10K Walk/Run.</p><p>Sista Strut raises awareness for breast c
 ancer, specifically for African-American women. For more information please
  contact Candace Price at <span id="cloakca99c62a4140517b31c3923fb7df74de">
 This email address is being protected from spambots. You need JavaScript en
 abled to view it.</span><script type='text/javascript'>
				document.getEle
 mentById('cloakca99c62a4140517b31c3923fb7df74de').innerHTML = '';
				var p
 refix = '&#109;a' + 'i&#108;' + '&#116;o';
				var path = 'hr' + 'ef' + '='
 ;
				var addyca99c62a4140517b31c3923fb7df74de = 'c&#97;nd&#97;c&#101;pr&#1
 05;c&#101;' + '&#64;';
				addyca99c62a4140517b31c3923fb7df74de = addyca99c
 62a4140517b31c3923fb7df74de + '&#105;h&#101;&#97;rtm&#101;d&#105;&#97;' + '
 &#46;' + 'c&#111;m';
				var addy_textca99c62a4140517b31c3923fb7df74de = 'c
 &#97;nd&#97;c&#101;pr&#105;c&#101;' + '&#64;' + '&#105;h&#101;&#97;rtm&#101
 ;d&#105;&#97;' + '&#46;' + 'c&#111;m';document.getElementById('cloakca99c62
 a4140517b31c3923fb7df74de').innerHTML += '<a ' + path + '\'' + prefix + ':'
  + addyca99c62a4140517b31c3923fb7df74de + '\'>'+addy_textca99c62a4140517b31
 c3923fb7df74de+'<\/a>';
		</script> or 615-456-9059.</p>
CONTACT:Candace Price at This email address is being protected from spambots. You need JavaScript enabled to view it.
				document.getElementById('cloakf2befaf0ee4c4ac8654a91e7fbb4bccc').innerHTML = '';
				var prefix = '&#109;a' + 'i&#108;' + '&#116;o';
				var path = 'hr' + 'ef' + '=';
				var addyf2befaf0ee4c4ac8654a91e7fbb4bccc = 'c&#97;nd&#97;c&#101;pr&#105;c&#101;' + '&#64;';
				addyf2befaf0ee4c4ac8654a91e7fbb4bccc = addyf2befaf0ee4c4ac8654a91e7fbb4bccc + '&#105;h&#101;&#97;rtm&#101;d&#105;&#97;' + '&#46;' + 'c&#111;m';
				var addy_textf2befaf0ee4c4ac8654a91e7fbb4bccc = 'c&#97;nd&#97;c&#101;pr&#105;c&#101;' + '&#64;' + '&#105;h&#101;&#97;rtm&#101;d&#105;&#97;' + '&#46;' + 'c&#111;m';document.getElementById('cloakf2befaf0ee4c4ac8654a91e7fbb4bccc').innerHTML += ''+addy_textf2befaf0ee4c4ac8654a91e7fbb4bccc+'';
		 or 615-456-9059.
DTSTAMP:20260424T062045Z
DTSTART;TZID=America/Kentucky/Louisville:20170520T080000
DTEND;TZID=America/Kentucky/Louisville:20170520T120000
SEQUENCE:0
TRANSP:OPAQUE
END:VEVENT
END:VCALENDAR