BEGIN:VCALENDAR
VERSION:2.0
PRODID:-//jEvents 2.0 for Joomla//EN
CALSCALE:GREGORIAN
METHOD:PUBLISH
BEGIN:VTIMEZONE
TZID:America/Kentucky/Louisville
BEGIN:STANDARD
DTSTART:20161106T010000
RDATE:20170312T030000
TZOFFSETFROM:-0400
TZOFFSETTO:-0500
TZNAME:America/Kentucky/Louisville EST
END:STANDARD
BEGIN:STANDARD
DTSTART:20171105T010000
RDATE:20180311T030000
TZOFFSETFROM:-0400
TZOFFSETTO:-0500
TZNAME:America/Kentucky/Louisville EST
END:STANDARD
BEGIN:STANDARD
DTSTART:20181104T010000
RDATE:20190310T030000
TZOFFSETFROM:-0400
TZOFFSETTO:-0500
TZNAME:America/Kentucky/Louisville EST
END:STANDARD
BEGIN:STANDARD
DTSTART:20191103T010000
RDATE:20200308T030000
TZOFFSETFROM:-0400
TZOFFSETTO:-0500
TZNAME:America/Kentucky/Louisville EST
END:STANDARD
BEGIN:STANDARD
DTSTART:20201101T010000
RDATE:20210314T030000
TZOFFSETFROM:-0400
TZOFFSETTO:-0500
TZNAME:America/Kentucky/Louisville EST
END:STANDARD
BEGIN:DAYLIGHT
DTSTART:20160922T080000
RDATE:20161106T010000
TZOFFSETFROM:-0500
TZOFFSETTO:-0400
TZNAME:America/Kentucky/Louisville EDT
END:DAYLIGHT
BEGIN:DAYLIGHT
DTSTART:20170312T030000
RDATE:20171105T010000
TZOFFSETFROM:-0500
TZOFFSETTO:-0400
TZNAME:America/Kentucky/Louisville EDT
END:DAYLIGHT
BEGIN:DAYLIGHT
DTSTART:20180311T030000
RDATE:20181104T010000
TZOFFSETFROM:-0500
TZOFFSETTO:-0400
TZNAME:America/Kentucky/Louisville EDT
END:DAYLIGHT
BEGIN:DAYLIGHT
DTSTART:20190310T030000
RDATE:20191103T010000
TZOFFSETFROM:-0500
TZOFFSETTO:-0400
TZNAME:America/Kentucky/Louisville EDT
END:DAYLIGHT
BEGIN:DAYLIGHT
DTSTART:20200308T030000
RDATE:20201101T010000
TZOFFSETFROM:-0500
TZOFFSETTO:-0400
TZNAME:America/Kentucky/Louisville EDT
END:DAYLIGHT
END:VTIMEZONE
BEGIN:VEVENT
UID:176a862e23c0b0c7f49feee17febf68c
CATEGORIES:Community Event
CREATED:20170801T201153
SUMMARY:2017 Sickle Cell “UNITY” Walk
LOCATION:Shawnee Park Pavilion
DESCRIPTION;ENCODING=QUOTED-PRINTABLE:<p>The community is invited to attend the 2017 Sickle Cell &ldquo;UNITY&rdq
 uo; Walk on Saturday, September 23rd in Shawnee Park! Registration begins a
 t 8:00 am and the walk begins at 9:00 am. The registration fee is $10 for p
 eople 16 years or older and $5 if you are aged 6 to 15. Participants under 
 $16 are FREE!</p><p>Bring your family, friends, co-workers, church and soci
 al groups to the &ldquo;UNITY&rdquo; Walk! T-Shirts will be available for s
 ale!</p><p>You can register for the 2017 Sickle Cell &ldquo;UNITY&rdquo; Wa
 lk by calling 502-767-2260 or 502-776-5918.</p>
CONTACT:502-767-2260 or 502-776-5918
DTSTAMP:20260424T123138Z
DTSTART;TZID=America/Kentucky/Louisville:20170923T080000
DTEND;TZID=America/Kentucky/Louisville:20170923T130000
SEQUENCE:0
TRANSP:OPAQUE
END:VEVENT
END:VCALENDAR