BEGIN:VCALENDAR
VERSION:2.0
PRODID:-//jEvents 2.0 for Joomla//EN
CALSCALE:GREGORIAN
METHOD:PUBLISH
BEGIN:VTIMEZONE
TZID:America/Kentucky/Louisville
BEGIN:STANDARD
DTSTART:20161106T010000
RDATE:20170312T030000
TZOFFSETFROM:-0400
TZOFFSETTO:-0500
TZNAME:America/Kentucky/Louisville EST
END:STANDARD
BEGIN:STANDARD
DTSTART:20171105T010000
RDATE:20180311T030000
TZOFFSETFROM:-0400
TZOFFSETTO:-0500
TZNAME:America/Kentucky/Louisville EST
END:STANDARD
BEGIN:STANDARD
DTSTART:20181104T010000
RDATE:20190310T030000
TZOFFSETFROM:-0400
TZOFFSETTO:-0500
TZNAME:America/Kentucky/Louisville EST
END:STANDARD
BEGIN:STANDARD
DTSTART:20191103T010000
RDATE:20200308T030000
TZOFFSETFROM:-0400
TZOFFSETTO:-0500
TZNAME:America/Kentucky/Louisville EST
END:STANDARD
BEGIN:STANDARD
DTSTART:20201101T010000
RDATE:20210314T030000
TZOFFSETFROM:-0400
TZOFFSETTO:-0500
TZNAME:America/Kentucky/Louisville EST
END:STANDARD
BEGIN:DAYLIGHT
DTSTART:20160811T100000
RDATE:20161106T010000
TZOFFSETFROM:-0500
TZOFFSETTO:-0400
TZNAME:America/Kentucky/Louisville EDT
END:DAYLIGHT
BEGIN:DAYLIGHT
DTSTART:20170312T030000
RDATE:20171105T010000
TZOFFSETFROM:-0500
TZOFFSETTO:-0400
TZNAME:America/Kentucky/Louisville EDT
END:DAYLIGHT
BEGIN:DAYLIGHT
DTSTART:20180311T030000
RDATE:20181104T010000
TZOFFSETFROM:-0500
TZOFFSETTO:-0400
TZNAME:America/Kentucky/Louisville EDT
END:DAYLIGHT
BEGIN:DAYLIGHT
DTSTART:20190310T030000
RDATE:20191103T010000
TZOFFSETFROM:-0500
TZOFFSETTO:-0400
TZNAME:America/Kentucky/Louisville EDT
END:DAYLIGHT
BEGIN:DAYLIGHT
DTSTART:20200308T030000
RDATE:20201101T010000
TZOFFSETFROM:-0500
TZOFFSETTO:-0400
TZNAME:America/Kentucky/Louisville EDT
END:DAYLIGHT
END:VTIMEZONE
BEGIN:VEVENT
UID:68075527466ce3ada6c348bc4342ddf8
CATEGORIES:Community Event
CREATED:20170801T204147
SUMMARY:Unity Jam — West End School
LOCATION:Darrell Griffith Athletic Center
DESCRIPTION;ENCODING=QUOTED-PRINTABLE:\n\nUnity Jam will offer food, music, games, health screenings, and plenty 
 of family-friendly activities.\n\n\nKids who complete a scavenger hunt can 
 earn a free back pack filled with school supplies. This event is a take-act
 ion project organized by Norton Healthcare&rsquo;s African\nAmerican Employ
 ee Resource Group.\n\n\nIt aims to help bring the community together and br
 eak down barriers that can stand in the way of good health, good relationsh
 ips and a good start to a new school year for many young students.\n\n\nAll
  members of the community are welcome. Admission is free. Vendors and exhib
 itors may participate at no cost, but are asked to provide a practical serv
 ice or take-away resource for participants.\n\n\nFor information, contact K
 irstie Crenshaw at This email address is being protected from spambots. You
  need JavaScript enabled to view it.
				document.getElementById('cloak5fab
 a04fdbe8aa24d5307cc8bc998de8').innerHTML = '';
				var prefix = '&#109;a' +
  'i&#108;' + '&#116;o';
				var path = 'hr' + 'ef' + '=';
				var addy5faba
 04fdbe8aa24d5307cc8bc998de8 = 'k&#105;rst&#105;&#101;.cr&#101;nsh&#97;w' + 
 '&#64;';
				addy5faba04fdbe8aa24d5307cc8bc998de8 = addy5faba04fdbe8aa24d53
 07cc8bc998de8 + 'n&#111;rt&#111;nh&#101;&#97;lthc&#97;r&#101;' + '&#46;' + 
 '&#111;rg';
				var addy_text5faba04fdbe8aa24d5307cc8bc998de8 = 'k&#105;rst
 &#105;&#101;.cr&#101;nsh&#97;w' + '&#64;' + 'n&#111;rt&#111;nh&#101;&#97;lt
 hc&#97;r&#101;' + '&#46;' + '&#111;rg';document.getElementById('cloak5faba0
 4fdbe8aa24d5307cc8bc998de8').innerHTML += ''+addy_text5faba04fdbe8aa24d5307
 cc8bc998de8+'';
		, or&nbsp;Corenza Townsend at This email address is being
  protected from spambots. You need JavaScript enabled to view it.
				docum
 ent.getElementById('cloak9096951183c5578c0413e85360c6fb95').innerHTML = '';
 
				var prefix = '&#109;a' + 'i&#108;' + '&#116;o';
				var path = 'hr' + 
 'ef' + '=';
				var addy9096951183c5578c0413e85360c6fb95 = 'c&#111;r&#101;n
 z&#97;.t&#111;wns&#101;nd' + '&#64;';
				addy9096951183c5578c0413e85360c6f
 b95 = addy9096951183c5578c0413e85360c6fb95 + 'n&#111;rt&#111;nh&#101;&#97;l
 thc&#97;r&#101;' + '&#46;' + '&#111;rg?s&#117;bj&#101;ct=Un&#105;ty%20J&#97
 ;m';
				var addy_text9096951183c5578c0413e85360c6fb95 = 'c&#111;r&#101;nz&
 #97;.t&#111;wns&#101;nd' + '&#64;' + 'n&#111;rt&#111;nh&#101;&#97;lthc&#97;
 r&#101;' + '&#46;' + '&#111;rg';document.getElementById('cloak9096951183c55
 78c0413e85360c6fb95').innerHTML += ''+addy_text9096951183c5578c0413e85360c6
 fb95+'';
		.\n
CONTACT:Kirstie Crenshaw at This email address is being protected from spambots. You need JavaScript enabled to view it.
				document.getElementById('cloak66c7d723098160e7f17eed510c732856').innerHTML = '';
				var prefix = '&#109;a' + 'i&#108;' + '&#116;o';
				var path = 'hr' + 'ef' + '=';
				var addy66c7d723098160e7f17eed510c732856 = 'k&#105;rst&#105;&#101;.cr&#101;nsh&#97;w' + '&#64;';
				addy66c7d723098160e7f17eed510c732856 = addy66c7d723098160e7f17eed510c732856 + 'n&#111;rt&#111;nh&#101;&#97;lthc&#97;r&#101;' + '&#46;' + '&#111;rg';
				var addy_text66c7d723098160e7f17eed510c732856 = 'k&#105;rst&#105;&#101;.cr&#101;nsh&#97;w' + '&#64;' + 'n&#111;rt&#111;nh&#101;&#97;lthc&#97;r&#101;' + '&#46;' + '&#111;rg';document.getElementById('cloak66c7d723098160e7f17eed510c732856').innerHTML += ''+addy_text66c7d723098160e7f17eed510c732856+'';
		, or Corenza Townsend at This email address is being protected from spambots. You need JavaScript enabled to view it.
				document.getElementById('cloakca90c507cad49f16f60d4a018f69f471').innerHTML = '';
				var prefix = '&#109;a' + 'i&#108;' + '&#116;o';
				var path = 'hr' + 'ef' + '=';
				var addyca90c507cad49f16f60d4a018f69f471 = 'c&#111;r&#101;nz&#97;.t&#111;wns&#101;nd' + '&#64;';
				addyca90c507cad49f16f60d4a018f69f471 = addyca90c507cad49f16f60d4a018f69f471 + 'n&#111;rt&#111;nh&#101;&#97;lthc&#97;r&#101;' + '&#46;' + '&#111;rg';
				var addy_textca90c507cad49f16f60d4a018f69f471 = 'c&#111;r&#101;nz&#97;.t&#111;wns&#101;nd' + '&#64;' + 'n&#111;rt&#111;nh&#101;&#97;lthc&#97;r&#101;' + '&#46;' + '&#111;rg';document.getElementById('cloakca90c507cad49f16f60d4a018f69f471').innerHTML += ''+addy_textca90c507cad49f16f60d4a018f69f471+'';
		
DTSTAMP:20260422T194652Z
DTSTART;TZID=America/Kentucky/Louisville:20170812T100000
DTEND;TZID=America/Kentucky/Louisville:20170812T140000
SEQUENCE:0
TRANSP:OPAQUE
END:VEVENT
END:VCALENDAR