BEGIN:VCALENDAR
VERSION:2.0
PRODID:-//jEvents 2.0 for Joomla//EN
CALSCALE:GREGORIAN
METHOD:PUBLISH
BEGIN:VTIMEZONE
TZID:America/Kentucky/Louisville
BEGIN:STANDARD
DTSTART:20161106T010000
RDATE:20170312T030000
TZOFFSETFROM:-0400
TZOFFSETTO:-0500
TZNAME:America/Kentucky/Louisville EST
END:STANDARD
BEGIN:STANDARD
DTSTART:20171105T010000
RDATE:20180311T030000
TZOFFSETFROM:-0400
TZOFFSETTO:-0500
TZNAME:America/Kentucky/Louisville EST
END:STANDARD
BEGIN:STANDARD
DTSTART:20181104T010000
RDATE:20190310T030000
TZOFFSETFROM:-0400
TZOFFSETTO:-0500
TZNAME:America/Kentucky/Louisville EST
END:STANDARD
BEGIN:STANDARD
DTSTART:20191103T010000
RDATE:20200308T030000
TZOFFSETFROM:-0400
TZOFFSETTO:-0500
TZNAME:America/Kentucky/Louisville EST
END:STANDARD
BEGIN:STANDARD
DTSTART:20201101T010000
RDATE:20210314T030000
TZOFFSETFROM:-0400
TZOFFSETTO:-0500
TZNAME:America/Kentucky/Louisville EST
END:STANDARD
BEGIN:DAYLIGHT
DTSTART:20160804T113000
RDATE:20161106T010000
TZOFFSETFROM:-0500
TZOFFSETTO:-0400
TZNAME:America/Kentucky/Louisville EDT
END:DAYLIGHT
BEGIN:DAYLIGHT
DTSTART:20170312T030000
RDATE:20171105T010000
TZOFFSETFROM:-0500
TZOFFSETTO:-0400
TZNAME:America/Kentucky/Louisville EDT
END:DAYLIGHT
BEGIN:DAYLIGHT
DTSTART:20180311T030000
RDATE:20181104T010000
TZOFFSETFROM:-0500
TZOFFSETTO:-0400
TZNAME:America/Kentucky/Louisville EDT
END:DAYLIGHT
BEGIN:DAYLIGHT
DTSTART:20190310T030000
RDATE:20191103T010000
TZOFFSETFROM:-0500
TZOFFSETTO:-0400
TZNAME:America/Kentucky/Louisville EDT
END:DAYLIGHT
BEGIN:DAYLIGHT
DTSTART:20200308T030000
RDATE:20201101T010000
TZOFFSETFROM:-0500
TZOFFSETTO:-0400
TZNAME:America/Kentucky/Louisville EDT
END:DAYLIGHT
END:VTIMEZONE
BEGIN:VEVENT
UID:4550e4ce7b328d48c0661a1231a8d5db
CATEGORIES:Community Event
CREATED:20170802T223401
SUMMARY:Family Fun Math Explosion!
LOCATION:Southwick Community Center
DESCRIPTION;ENCODING=QUOTED-PRINTABLE:\n\nThis email address is being protected from spambots. You need JavaScrip
 t enabled to view it.
				document.getElementById('cloakb38ebec6ac8668dcfba
 35ac0ce950f62').innerHTML = '';
				var prefix = 'ma' + 'il' + 'to';
				va
 r path = 'hr' + 'ef' + '=';
				var addyb38ebec6ac8668dcfba35ac0ce950f62 = 
 'WLMATHANDSCIENCE' + '@';
				addyb38ebec6ac8668dcfba35ac0ce950f62 = addyb3
 8ebec6ac8668dcfba35ac0ce950f62 + 'GMAIL' + '.' + 'COM?subject=Pre-Registrat
 ion';
				var addy_textb38ebec6ac8668dcfba35ac0ce950f62 = '';document.getEl
 ementById('cloakb38ebec6ac8668dcfba35ac0ce950f62').innerHTML += ''+addy_tex
 tb38ebec6ac8668dcfba35ac0ce950f62+'';
		\n
CONTACT:Email us at This email address is being protected from spambots. You need JavaScript enabled to view it.
				document.getElementById('cloak7422177bc8ef3c2e256d49e2ac90b857').innerHTML = '';
				var prefix = '&#109;a' + 'i&#108;' + '&#116;o';
				var path = 'hr' + 'ef' + '=';
				var addy7422177bc8ef3c2e256d49e2ac90b857 = 'WLMATHANDSCIENCE' + '&#64;';
				addy7422177bc8ef3c2e256d49e2ac90b857 = addy7422177bc8ef3c2e256d49e2ac90b857 + 'GMAIL' + '&#46;' + 'COM';
				var addy_text7422177bc8ef3c2e256d49e2ac90b857 = 'WLMATHANDSCIENCE' + '&#64;' + 'GMAIL' + '&#46;' + 'COM';document.getElementById('cloak7422177bc8ef3c2e256d49e2ac90b857').innerHTML += ''+addy_text7422177bc8ef3c2e256d49e2ac90b857+'';
		
DTSTAMP:20260422T194525Z
DTSTART;TZID=America/Kentucky/Louisville:20170805T113000
DTEND;TZID=America/Kentucky/Louisville:20170805T143000
SEQUENCE:0
TRANSP:OPAQUE
END:VEVENT
END:VCALENDAR