BEGIN:VCALENDAR
VERSION:2.0
PRODID:-//jEvents 2.0 for Joomla//EN
CALSCALE:GREGORIAN
METHOD:PUBLISH
BEGIN:VTIMEZONE
TZID:America/Kentucky/Louisville
BEGIN:STANDARD
DTSTART:20161106T010000
RDATE:20170312T030000
TZOFFSETFROM:-0400
TZOFFSETTO:-0500
TZNAME:America/Kentucky/Louisville EST
END:STANDARD
BEGIN:STANDARD
DTSTART:20171105T010000
RDATE:20180311T030000
TZOFFSETFROM:-0400
TZOFFSETTO:-0500
TZNAME:America/Kentucky/Louisville EST
END:STANDARD
BEGIN:STANDARD
DTSTART:20181104T010000
RDATE:20190310T030000
TZOFFSETFROM:-0400
TZOFFSETTO:-0500
TZNAME:America/Kentucky/Louisville EST
END:STANDARD
BEGIN:STANDARD
DTSTART:20191103T010000
RDATE:20200308T030000
TZOFFSETFROM:-0400
TZOFFSETTO:-0500
TZNAME:America/Kentucky/Louisville EST
END:STANDARD
BEGIN:STANDARD
DTSTART:20201101T010000
RDATE:20210314T030000
TZOFFSETFROM:-0400
TZOFFSETTO:-0500
TZNAME:America/Kentucky/Louisville EST
END:STANDARD
BEGIN:DAYLIGHT
DTSTART:20160811T120000
RDATE:20161106T010000
TZOFFSETFROM:-0500
TZOFFSETTO:-0400
TZNAME:America/Kentucky/Louisville EDT
END:DAYLIGHT
BEGIN:DAYLIGHT
DTSTART:20170312T030000
RDATE:20171105T010000
TZOFFSETFROM:-0500
TZOFFSETTO:-0400
TZNAME:America/Kentucky/Louisville EDT
END:DAYLIGHT
BEGIN:DAYLIGHT
DTSTART:20180311T030000
RDATE:20181104T010000
TZOFFSETFROM:-0500
TZOFFSETTO:-0400
TZNAME:America/Kentucky/Louisville EDT
END:DAYLIGHT
BEGIN:DAYLIGHT
DTSTART:20190310T030000
RDATE:20191103T010000
TZOFFSETFROM:-0500
TZOFFSETTO:-0400
TZNAME:America/Kentucky/Louisville EDT
END:DAYLIGHT
BEGIN:DAYLIGHT
DTSTART:20200308T030000
RDATE:20201101T010000
TZOFFSETFROM:-0500
TZOFFSETTO:-0400
TZNAME:America/Kentucky/Louisville EDT
END:DAYLIGHT
END:VTIMEZONE
BEGIN:VEVENT
UID:7b16efcb9c4b379d8766b51944e723e2
CATEGORIES:Community Event
CREATED:20170804T021843
SUMMARY:MOLO Village 7th Annual Festival
LOCATION:St. Peter's UCC
DESCRIPTION;ENCODING=QUOTED-PRINTABLE:<p>Join MOLO village for a weekend of family fun at St. Peters UCC, Russell
  Plaza, 1407 W. Jefferson St., Suite 120. The MOLO Village parade will take
  place Friday from 7-8 p.m. followed by jazz night and a fish fry from<br /
 >8-11 p.m.</p><p>Saturday will be a back to school festival with free schoo
 l supplies and activities for the kids.</p><p>For more information please v
 isit&nbsp;<a href="Saturday%20will%20be%20a%20back%20to%20school%20festival
 %20with%20free%20school%20supplies%20and%20activities%20for%20the%20kids.%2
 0For%20more%20information%20please%20visit%20https:/www.facebook.com/events
 /439275726433410/" target="_blank">https://www.facebook.com/events/43927572
 6433410/</a></p>
DTSTAMP:20260424T081907Z
DTSTART;TZID=America/Kentucky/Louisville:20170812T120000
DTEND;TZID=America/Kentucky/Louisville:20170812T160000
SEQUENCE:0
TRANSP:OPAQUE
END:VEVENT
END:VCALENDAR