BEGIN:VCALENDAR
VERSION:2.0
PRODID:-//jEvents 2.0 for Joomla//EN
CALSCALE:GREGORIAN
METHOD:PUBLISH
BEGIN:VTIMEZONE
TZID:America/Kentucky/Louisville
BEGIN:STANDARD
DTSTART:20161106T010000
RDATE:20170312T030000
TZOFFSETFROM:-0400
TZOFFSETTO:-0500
TZNAME:America/Kentucky/Louisville EST
END:STANDARD
BEGIN:STANDARD
DTSTART:20171105T010000
RDATE:20180311T030000
TZOFFSETFROM:-0400
TZOFFSETTO:-0500
TZNAME:America/Kentucky/Louisville EST
END:STANDARD
BEGIN:STANDARD
DTSTART:20181104T010000
RDATE:20190310T030000
TZOFFSETFROM:-0400
TZOFFSETTO:-0500
TZNAME:America/Kentucky/Louisville EST
END:STANDARD
BEGIN:STANDARD
DTSTART:20191103T010000
RDATE:20200308T030000
TZOFFSETFROM:-0400
TZOFFSETTO:-0500
TZNAME:America/Kentucky/Louisville EST
END:STANDARD
BEGIN:STANDARD
DTSTART:20201101T010000
RDATE:20210314T030000
TZOFFSETFROM:-0400
TZOFFSETTO:-0500
TZNAME:America/Kentucky/Louisville EST
END:STANDARD
BEGIN:DAYLIGHT
DTSTART:20160818T110000
RDATE:20161106T010000
TZOFFSETFROM:-0500
TZOFFSETTO:-0400
TZNAME:America/Kentucky/Louisville EDT
END:DAYLIGHT
BEGIN:DAYLIGHT
DTSTART:20170312T030000
RDATE:20171105T010000
TZOFFSETFROM:-0500
TZOFFSETTO:-0400
TZNAME:America/Kentucky/Louisville EDT
END:DAYLIGHT
BEGIN:DAYLIGHT
DTSTART:20180311T030000
RDATE:20181104T010000
TZOFFSETFROM:-0500
TZOFFSETTO:-0400
TZNAME:America/Kentucky/Louisville EDT
END:DAYLIGHT
BEGIN:DAYLIGHT
DTSTART:20190310T030000
RDATE:20191103T010000
TZOFFSETFROM:-0500
TZOFFSETTO:-0400
TZNAME:America/Kentucky/Louisville EDT
END:DAYLIGHT
BEGIN:DAYLIGHT
DTSTART:20200308T030000
RDATE:20201101T010000
TZOFFSETFROM:-0500
TZOFFSETTO:-0400
TZNAME:America/Kentucky/Louisville EDT
END:DAYLIGHT
END:VTIMEZONE
BEGIN:VEVENT
UID:055375fed7b6aa286b0807cb9deac2ba
CATEGORIES:Community Center Programming
CREATED:20170804T022808
SUMMARY:Park Duvalle Annual Community Health Fair
LOCATION:Park DuValle Community Health Center
DESCRIPTION;ENCODING=QUOTED-PRINTABLE:\n\nThe community is invited to attend the Park Duvalle Annual Community He
 alth Fair on Saturday, August 19th from 11:00 am to 3:00 pm at the Park Duv
 alle Community Center located at 3015 Wilson Avenue.\n\n\nThe Health Fair w
 ill have a ton of information ranging from Tobacco Cessation, Diabetes Mana
 gement, Stroke Prevention and Management, Mental Health/Substance Abuse, Si
 ckle Cell, Nutrition and Healthy Eating,&nbsp;Lactation and WIC, Environmen
 tal Education/Info, Exercise Demonstrations &amp; Safety Information.\n\n\n
 There will also be FREE health screenings including school physicals, sport
 s physicals, blood pressure screenings, blood sugar (glucose) screenings, c
 holesterol screenings, oral health screenings, HIV testing, vision screenin
 gs &amp; hearing screenings!\n
DTSTAMP:20260422T194633Z
DTSTART;TZID=America/Kentucky/Louisville:20170819T110000
DTEND;TZID=America/Kentucky/Louisville:20170819T150000
SEQUENCE:0
TRANSP:OPAQUE
END:VEVENT
END:VCALENDAR