BEGIN:VCALENDAR
VERSION:2.0
PRODID:-//jEvents 2.0 for Joomla//EN
CALSCALE:GREGORIAN
METHOD:PUBLISH
BEGIN:VTIMEZONE
TZID:America/Kentucky/Louisville
BEGIN:STANDARD
DTSTART:20151101T010000
RDATE:20160313T030000
TZOFFSETFROM:-0400
TZOFFSETTO:-0500
TZNAME:America/Kentucky/Louisville EST
END:STANDARD
BEGIN:STANDARD
DTSTART:20161106T010000
RDATE:20170312T030000
TZOFFSETFROM:-0400
TZOFFSETTO:-0500
TZNAME:America/Kentucky/Louisville EST
END:STANDARD
BEGIN:STANDARD
DTSTART:20171105T010000
RDATE:20180311T030000
TZOFFSETFROM:-0400
TZOFFSETTO:-0500
TZNAME:America/Kentucky/Louisville EST
END:STANDARD
BEGIN:STANDARD
DTSTART:20181104T010000
RDATE:20190310T030000
TZOFFSETFROM:-0400
TZOFFSETTO:-0500
TZNAME:America/Kentucky/Louisville EST
END:STANDARD
BEGIN:STANDARD
DTSTART:20191103T010000
RDATE:20200308T030000
TZOFFSETFROM:-0400
TZOFFSETTO:-0500
TZNAME:America/Kentucky/Louisville EST
END:STANDARD
BEGIN:STANDARD
DTSTART:20201101T010000
RDATE:20210314T030000
TZOFFSETFROM:-0400
TZOFFSETTO:-0500
TZNAME:America/Kentucky/Louisville EST
END:STANDARD
BEGIN:DAYLIGHT
DTSTART:20150726T090000
RDATE:20151101T010000
TZOFFSETFROM:-0500
TZOFFSETTO:-0400
TZNAME:America/Kentucky/Louisville EDT
END:DAYLIGHT
BEGIN:DAYLIGHT
DTSTART:20160313T030000
RDATE:20161106T010000
TZOFFSETFROM:-0500
TZOFFSETTO:-0400
TZNAME:America/Kentucky/Louisville EDT
END:DAYLIGHT
BEGIN:DAYLIGHT
DTSTART:20170312T030000
RDATE:20171105T010000
TZOFFSETFROM:-0500
TZOFFSETTO:-0400
TZNAME:America/Kentucky/Louisville EDT
END:DAYLIGHT
BEGIN:DAYLIGHT
DTSTART:20180311T030000
RDATE:20181104T010000
TZOFFSETFROM:-0500
TZOFFSETTO:-0400
TZNAME:America/Kentucky/Louisville EDT
END:DAYLIGHT
BEGIN:DAYLIGHT
DTSTART:20190310T030000
RDATE:20191103T010000
TZOFFSETFROM:-0500
TZOFFSETTO:-0400
TZNAME:America/Kentucky/Louisville EDT
END:DAYLIGHT
BEGIN:DAYLIGHT
DTSTART:20200308T030000
RDATE:20201101T010000
TZOFFSETFROM:-0500
TZOFFSETTO:-0400
TZNAME:America/Kentucky/Louisville EDT
END:DAYLIGHT
END:VTIMEZONE
BEGIN:VEVENT
UID:b37deb200220fc4c2368e017784fb731
CATEGORIES:Government - Louisville Metro/State/Federal
CREATED:20160701T053407
SUMMARY:Olmstead Parks Conservancy Summer Camps, Chickasaw Park
LOCATION:Chickasaw Park
DESCRIPTION;ENCODING=QUOTED-PRINTABLE:\n\n\nOlmstead Parks Conservancy and Louisville Nature Center invite the yo
 uth in the community to attend FREE camps this summer! Campers will enjoy f
 un outdoor activities and learn about parks, trees, leaves, birds, wildlife
  habitats, and other creatures in nature.\n\n\nJuly 18th - 22nd from 9:00 a
 m to 4:00 pm for campers aged 10 to 12\n\n\nJuly 25th - 29th from 9:00 am t
 o 4:00 pm for campers aged 6 to 9\n\n\nCampers will be selected based on a 
 written piece telling about their love of nature and two written adult reco
 mmendations. Suggested application due date is July 8th! Each camp has a ma
 ximum of 20 campers.\n
CONTACT:Louisville Nature Center at 502-458-1328 or Judy Gardner at This email address is being protected from spambots. You need JavaScript enabled to view it.
				document.getElementById('cloakb445e9c77e9cca6fc0fccabb68e0786a').innerHTML = '';
				var prefix = '&#109;a' + 'i&#108;' + '&#116;o';
				var path = 'hr' + 'ef' + '=';
				var addyb445e9c77e9cca6fc0fccabb68e0786a = 'Jg&#97;rdn&#101;r' + '&#64;';
				addyb445e9c77e9cca6fc0fccabb68e0786a = addyb445e9c77e9cca6fc0fccabb68e0786a + 'l&#111;&#117;&#105;sv&#105;ll&#101;n&#97;t&#117;r&#101;c&#101;nt&#101;r' + '&#46;' + '&#111;rg';
				var addy_textb445e9c77e9cca6fc0fccabb68e0786a = 'Jg&#97;rdn&#101;r' + '&#64;' + 'l&#111;&#117;&#105;sv&#105;ll&#101;n&#97;t&#117;r&#101;c&#101;nt&#101;r' + '&#46;' + '&#111;rg';document.getElementById('cloakb445e9c77e9cca6fc0fccabb68e0786a').innerHTML += ''+addy_textb445e9c77e9cca6fc0fccabb68e0786a+'';
		
DTSTAMP:20260421T052909Z
DTSTART;TZID=America/Kentucky/Louisville:20160726T090000
DTEND;TZID=America/Kentucky/Louisville:20160726T160000
SEQUENCE:0
TRANSP:OPAQUE
END:VEVENT
END:VCALENDAR