BEGIN:VCALENDAR
VERSION:2.0
PRODID:-//jEvents 2.0 for Joomla//EN
CALSCALE:GREGORIAN
METHOD:PUBLISH
BEGIN:VTIMEZONE
TZID:America/Kentucky/Louisville
BEGIN:STANDARD
DTSTART:20151101T010000
RDATE:20160313T030000
TZOFFSETFROM:-0400
TZOFFSETTO:-0500
TZNAME:America/Kentucky/Louisville EST
END:STANDARD
BEGIN:STANDARD
DTSTART:20161106T010000
RDATE:20170312T030000
TZOFFSETFROM:-0400
TZOFFSETTO:-0500
TZNAME:America/Kentucky/Louisville EST
END:STANDARD
BEGIN:STANDARD
DTSTART:20171105T010000
RDATE:20180311T030000
TZOFFSETFROM:-0400
TZOFFSETTO:-0500
TZNAME:America/Kentucky/Louisville EST
END:STANDARD
BEGIN:STANDARD
DTSTART:20181104T010000
RDATE:20190310T030000
TZOFFSETFROM:-0400
TZOFFSETTO:-0500
TZNAME:America/Kentucky/Louisville EST
END:STANDARD
BEGIN:STANDARD
DTSTART:20191103T010000
RDATE:20200308T030000
TZOFFSETFROM:-0400
TZOFFSETTO:-0500
TZNAME:America/Kentucky/Louisville EST
END:STANDARD
BEGIN:STANDARD
DTSTART:20201101T010000
RDATE:20210314T030000
TZOFFSETFROM:-0400
TZOFFSETTO:-0500
TZNAME:America/Kentucky/Louisville EST
END:STANDARD
BEGIN:DAYLIGHT
DTSTART:20151029T130000
RDATE:20151101T010000
TZOFFSETFROM:-0500
TZOFFSETTO:-0400
TZNAME:America/Kentucky/Louisville EDT
END:DAYLIGHT
BEGIN:DAYLIGHT
DTSTART:20160313T030000
RDATE:20161106T010000
TZOFFSETFROM:-0500
TZOFFSETTO:-0400
TZNAME:America/Kentucky/Louisville EDT
END:DAYLIGHT
BEGIN:DAYLIGHT
DTSTART:20170312T030000
RDATE:20171105T010000
TZOFFSETFROM:-0500
TZOFFSETTO:-0400
TZNAME:America/Kentucky/Louisville EDT
END:DAYLIGHT
BEGIN:DAYLIGHT
DTSTART:20180311T030000
RDATE:20181104T010000
TZOFFSETFROM:-0500
TZOFFSETTO:-0400
TZNAME:America/Kentucky/Louisville EDT
END:DAYLIGHT
BEGIN:DAYLIGHT
DTSTART:20190310T030000
RDATE:20191103T010000
TZOFFSETFROM:-0500
TZOFFSETTO:-0400
TZNAME:America/Kentucky/Louisville EDT
END:DAYLIGHT
BEGIN:DAYLIGHT
DTSTART:20200308T030000
RDATE:20201101T010000
TZOFFSETFROM:-0500
TZOFFSETTO:-0400
TZNAME:America/Kentucky/Louisville EDT
END:DAYLIGHT
END:VTIMEZONE
BEGIN:VEVENT
UID:00d90c50e036c74d2efa5eaa3b2cc680
CATEGORIES:Community Event
CREATED:20161005T051733
SUMMARY:Black Saturdays
LOCATION:Wing Station
DESCRIPTION;ENCODING=QUOTED-PRINTABLE:\n\nThis email address is being protected from spambots. You need JavaScrip
 t enabled to view it.
				document.getElementById('cloak23ea35b231664b9dcae
 7dc9fbd8f6cbb').innerHTML = '';
				var prefix = 'ma' + 'il' + 'to';
				va
 r path = 'hr' + 'ef' + '=';
				var addy23ea35b231664b9dcae7dc9fbd8f6cbb = 
 'tiandra' + '@';
				addy23ea35b231664b9dcae7dc9fbd8f6cbb = addy23ea35b2316
 64b9dcae7dc9fbd8f6cbb + 'trthepr' + '.' + 'com?cc=bradharrison';
				var ad
 dy_text23ea35b231664b9dcae7dc9fbd8f6cbb = '';document.getElementById('cloak
 23ea35b231664b9dcae7dc9fbd8f6cbb').innerHTML += ''+addy_text23ea35b231664b9
 dcae7dc9fbd8f6cbb+'';
		\n
CONTACT:Sanita Woolfolk, This email address is being protected from spambots. You need JavaScript enabled to view it.
				document.getElementById('cloak1d480f470130e11f06187f7878e8dca8').innerHTML = '';
				var prefix = '&#109;a' + 'i&#108;' + '&#116;o';
				var path = 'hr' + 'ef' + '=';
				var addy1d480f470130e11f06187f7878e8dca8 = 's&#97;n&#105;t&#97;w&#111;&#111;lf&#111;lk' + '&#64;';
				addy1d480f470130e11f06187f7878e8dca8 = addy1d480f470130e11f06187f7878e8dca8 + 'gm&#97;&#105;l' + '&#46;' + 'c&#111;m';
				var addy_text1d480f470130e11f06187f7878e8dca8 = 's&#97;n&#105;t&#97;w&#111;&#111;lf&#111;lk' + '&#64;' + 'gm&#97;&#105;l' + '&#46;' + 'c&#111;m';document.getElementById('cloak1d480f470130e11f06187f7878e8dca8').innerHTML += ''+addy_text1d480f470130e11f06187f7878e8dca8+'';
		
DTSTAMP:20260423T080803Z
DTSTART;TZID=America/Kentucky/Louisville:20161029T130000
DTEND;TZID=America/Kentucky/Louisville:20161029T160000
SEQUENCE:0
TRANSP:OPAQUE
END:VEVENT
END:VCALENDAR