BEGIN:VCALENDAR
VERSION:2.0
PRODID:-//jEvents 2.0 for Joomla//EN
CALSCALE:GREGORIAN
METHOD:PUBLISH
BEGIN:VTIMEZONE
TZID:America/Kentucky/Louisville
BEGIN:STANDARD
DTSTART:20151114T180000
RDATE:20160313T030000
TZOFFSETFROM:-0400
TZOFFSETTO:-0500
TZNAME:America/Kentucky/Louisville EST
END:STANDARD
BEGIN:STANDARD
DTSTART:20161106T010000
RDATE:20170312T030000
TZOFFSETFROM:-0400
TZOFFSETTO:-0500
TZNAME:America/Kentucky/Louisville EST
END:STANDARD
BEGIN:STANDARD
DTSTART:20171105T010000
RDATE:20180311T030000
TZOFFSETFROM:-0400
TZOFFSETTO:-0500
TZNAME:America/Kentucky/Louisville EST
END:STANDARD
BEGIN:STANDARD
DTSTART:20181104T010000
RDATE:20190310T030000
TZOFFSETFROM:-0400
TZOFFSETTO:-0500
TZNAME:America/Kentucky/Louisville EST
END:STANDARD
BEGIN:STANDARD
DTSTART:20191103T010000
RDATE:20200308T030000
TZOFFSETFROM:-0400
TZOFFSETTO:-0500
TZNAME:America/Kentucky/Louisville EST
END:STANDARD
BEGIN:STANDARD
DTSTART:20201101T010000
RDATE:20210314T030000
TZOFFSETFROM:-0400
TZOFFSETTO:-0500
TZNAME:America/Kentucky/Louisville EST
END:STANDARD
BEGIN:DAYLIGHT
DTSTART:20160313T030000
RDATE:20161106T010000
TZOFFSETFROM:-0500
TZOFFSETTO:-0400
TZNAME:America/Kentucky/Louisville EDT
END:DAYLIGHT
BEGIN:DAYLIGHT
DTSTART:20170312T030000
RDATE:20171105T010000
TZOFFSETFROM:-0500
TZOFFSETTO:-0400
TZNAME:America/Kentucky/Louisville EDT
END:DAYLIGHT
BEGIN:DAYLIGHT
DTSTART:20180311T030000
RDATE:20181104T010000
TZOFFSETFROM:-0500
TZOFFSETTO:-0400
TZNAME:America/Kentucky/Louisville EDT
END:DAYLIGHT
BEGIN:DAYLIGHT
DTSTART:20190310T030000
RDATE:20191103T010000
TZOFFSETFROM:-0500
TZOFFSETTO:-0400
TZNAME:America/Kentucky/Louisville EDT
END:DAYLIGHT
BEGIN:DAYLIGHT
DTSTART:20200308T030000
RDATE:20201101T010000
TZOFFSETFROM:-0500
TZOFFSETTO:-0400
TZNAME:America/Kentucky/Louisville EDT
END:DAYLIGHT
END:VTIMEZONE
BEGIN:VEVENT
UID:b556966f779650d8d62aab1f0622fdbf
CATEGORIES:Government - Louisville Metro/State/Federal
CREATED:20161014T034559
SUMMARY:Free Classes Available to Help Smokers Quit
LOCATION:Portland Family Health Center
DESCRIPTION;ENCODING=QUOTED-PRINTABLE:\n\nThis email address is being protected from spambots. You need JavaScrip
 t enabled to view it.
				document.getElementById('cloakb39054c87f7cc13e7cb
 4eb08ee8b8afe').innerHTML = '';
				var prefix = 'ma' + 'il' + 'to';
				va
 r path = 'hr' + 'ef' + '=';
				var addyb39054c87f7cc13e7cb4eb08ee8b8afe = 
 'StopSmoking' + '@';
				addyb39054c87f7cc13e7cb4eb08ee8b8afe = addyb39054c
 87f7cc13e7cb4eb08ee8b8afe + 'louisvilleky' + '.' + 'gov?subject=Freedom%20f
 rom%20Smoking%20Program';
				var addy_textb39054c87f7cc13e7cb4eb08ee8b8afe
  = '';document.getElementById('cloakb39054c87f7cc13e7cb4eb08ee8b8afe').inne
 rHTML += ''+addy_textb39054c87f7cc13e7cb4eb08ee8b8afe+'';
		\n
CONTACT:Register by phone: 502-574-7867
DTSTAMP:20260419T203802Z
DTSTART;TZID=America/Kentucky/Louisville:20161114T180000
DTEND;TZID=America/Kentucky/Louisville:20161114T193000
SEQUENCE:0
TRANSP:OPAQUE
END:VEVENT
END:VCALENDAR