BEGIN:VCALENDAR
VERSION:2.0
PRODID:-//jEvents 2.0 for Joomla//EN
CALSCALE:GREGORIAN
METHOD:PUBLISH
BEGIN:VTIMEZONE
TZID:America/Kentucky/Louisville
BEGIN:STANDARD
DTSTART:20151117T160000
RDATE:20160313T030000
TZOFFSETFROM:-0400
TZOFFSETTO:-0500
TZNAME:America/Kentucky/Louisville EST
END:STANDARD
BEGIN:STANDARD
DTSTART:20161106T010000
RDATE:20170312T030000
TZOFFSETFROM:-0400
TZOFFSETTO:-0500
TZNAME:America/Kentucky/Louisville EST
END:STANDARD
BEGIN:STANDARD
DTSTART:20171105T010000
RDATE:20180311T030000
TZOFFSETFROM:-0400
TZOFFSETTO:-0500
TZNAME:America/Kentucky/Louisville EST
END:STANDARD
BEGIN:STANDARD
DTSTART:20181104T010000
RDATE:20190310T030000
TZOFFSETFROM:-0400
TZOFFSETTO:-0500
TZNAME:America/Kentucky/Louisville EST
END:STANDARD
BEGIN:STANDARD
DTSTART:20191103T010000
RDATE:20200308T030000
TZOFFSETFROM:-0400
TZOFFSETTO:-0500
TZNAME:America/Kentucky/Louisville EST
END:STANDARD
BEGIN:STANDARD
DTSTART:20201101T010000
RDATE:20210314T030000
TZOFFSETFROM:-0400
TZOFFSETTO:-0500
TZNAME:America/Kentucky/Louisville EST
END:STANDARD
BEGIN:DAYLIGHT
DTSTART:20160313T030000
RDATE:20161106T010000
TZOFFSETFROM:-0500
TZOFFSETTO:-0400
TZNAME:America/Kentucky/Louisville EDT
END:DAYLIGHT
BEGIN:DAYLIGHT
DTSTART:20170312T030000
RDATE:20171105T010000
TZOFFSETFROM:-0500
TZOFFSETTO:-0400
TZNAME:America/Kentucky/Louisville EDT
END:DAYLIGHT
BEGIN:DAYLIGHT
DTSTART:20180311T030000
RDATE:20181104T010000
TZOFFSETFROM:-0500
TZOFFSETTO:-0400
TZNAME:America/Kentucky/Louisville EDT
END:DAYLIGHT
BEGIN:DAYLIGHT
DTSTART:20190310T030000
RDATE:20191103T010000
TZOFFSETFROM:-0500
TZOFFSETTO:-0400
TZNAME:America/Kentucky/Louisville EDT
END:DAYLIGHT
BEGIN:DAYLIGHT
DTSTART:20200308T030000
RDATE:20201101T010000
TZOFFSETFROM:-0500
TZOFFSETTO:-0400
TZNAME:America/Kentucky/Louisville EDT
END:DAYLIGHT
END:VTIMEZONE
BEGIN:VEVENT
UID:04051511c1553e4c66d422ba91d88b7f
CATEGORIES:Ongoing Community/Organizational Programming
CREATED:20161014T184124
SUMMARY:The GAP Felony Prevention Program – St. Stephen Family Life Center
LOCATION:St. Stephen Family Life Center
DESCRIPTION;ENCODING=QUOTED-PRINTABLE:\n\nThis email address is being protected from spambots. You need JavaScrip
 t enabled to view it.
				document.getElementById('cloak8054a0af64a893e0938
 af7c3516aa473').innerHTML = '';
				var prefix = 'ma' + 'il' + 'to';
				va
 r path = 'hr' + 'ef' + '=';
				var addy8054a0af64a893e0938af7c3516aa473 = 
 'r.whitlockjr2' + '@';
				addy8054a0af64a893e0938af7c3516aa473 = addy8054a
 0af64a893e0938af7c3516aa473 + 'gmail' + '.' + 'com?subject=GAP%20Felony%20P
 revention';
				var addy_text8054a0af64a893e0938af7c3516aa473 = '';document
 .getElementById('cloak8054a0af64a893e0938af7c3516aa473').innerHTML += ''+ad
 dy_text8054a0af64a893e0938af7c3516aa473+'';
		\n
X-EXTRAINFO:The G.A.P Felony Prevention Program.\n\nSt. Stephen's Family Life Center ev
 ery Tuesday and Thursday (4:00pm to 8:00pm) room 303. \n\n2 hours of educat
 ion, 2 hours of recreation. This program is for YBM ONLY (12-17).
DTSTAMP:20260419T203802Z
DTSTART;TZID=America/Kentucky/Louisville:20161117T160000
DTEND;TZID=America/Kentucky/Louisville:20161117T200000
SEQUENCE:0
TRANSP:OPAQUE
END:VEVENT
END:VCALENDAR