BEGIN:VCALENDAR
VERSION:2.0
PRODID:-//jEvents 2.0 for Joomla//EN
CALSCALE:GREGORIAN
METHOD:PUBLISH
BEGIN:VTIMEZONE
TZID:America/Kentucky/Louisville
BEGIN:STANDARD
DTSTART:20161106T010000
RDATE:20170312T030000
TZOFFSETFROM:-0400
TZOFFSETTO:-0500
TZNAME:America/Kentucky/Louisville EST
END:STANDARD
BEGIN:STANDARD
DTSTART:20171105T010000
RDATE:20180311T030000
TZOFFSETFROM:-0400
TZOFFSETTO:-0500
TZNAME:America/Kentucky/Louisville EST
END:STANDARD
BEGIN:STANDARD
DTSTART:20181104T010000
RDATE:20190310T030000
TZOFFSETFROM:-0400
TZOFFSETTO:-0500
TZNAME:America/Kentucky/Louisville EST
END:STANDARD
BEGIN:STANDARD
DTSTART:20191103T010000
RDATE:20200308T030000
TZOFFSETFROM:-0400
TZOFFSETTO:-0500
TZNAME:America/Kentucky/Louisville EST
END:STANDARD
BEGIN:STANDARD
DTSTART:20201101T010000
RDATE:20210314T030000
TZOFFSETFROM:-0400
TZOFFSETTO:-0500
TZNAME:America/Kentucky/Louisville EST
END:STANDARD
BEGIN:DAYLIGHT
DTSTART:20160322T120000
RDATE:20161106T010000
TZOFFSETFROM:-0500
TZOFFSETTO:-0400
TZNAME:America/Kentucky/Louisville EDT
END:DAYLIGHT
BEGIN:DAYLIGHT
DTSTART:20170312T030000
RDATE:20171105T010000
TZOFFSETFROM:-0500
TZOFFSETTO:-0400
TZNAME:America/Kentucky/Louisville EDT
END:DAYLIGHT
BEGIN:DAYLIGHT
DTSTART:20180311T030000
RDATE:20181104T010000
TZOFFSETFROM:-0500
TZOFFSETTO:-0400
TZNAME:America/Kentucky/Louisville EDT
END:DAYLIGHT
BEGIN:DAYLIGHT
DTSTART:20190310T030000
RDATE:20191103T010000
TZOFFSETFROM:-0500
TZOFFSETTO:-0400
TZNAME:America/Kentucky/Louisville EDT
END:DAYLIGHT
BEGIN:DAYLIGHT
DTSTART:20200308T030000
RDATE:20201101T010000
TZOFFSETFROM:-0500
TZOFFSETTO:-0400
TZNAME:America/Kentucky/Louisville EDT
END:DAYLIGHT
END:VTIMEZONE
BEGIN:VEVENT
UID:64caf95cd6554121d393637d0f7918e5
CATEGORIES:Ongoing Community/Organizational Programming
CREATED:20170122T064906
SUMMARY:Western Branch Library Support Association, Inc. (WBLSA)
LOCATION:Western Branch Public Library
DESCRIPTION;ENCODING=QUOTED-PRINTABLE:\n\nMonthly meeting.\n\n\nMeetings are open to the public.\nOnly persons wh
 o have paid dues may vote.\n
X-EXTRAINFO:Elmer Lucille Allen – 502-773-0806\nVolunteer This email address is being p
 rotected from spambots. You need JavaScript enabled to view it.
				documen
 t.getElementById('cloak3289582cb78f71246f23c43fd18d2108').innerHTML = '';
	
 			var prefix = '&#109;a' + 'i&#108;' + '&#116;o';
				var path = 'hr' + 'e
 f' + '=';
				var addy3289582cb78f71246f23c43fd18d2108 = '&#101;lm&#101;r_l
 &#117;c&#105;ll&#101;_&#97;ll&#101;n' + '&#64;';
				addy3289582cb78f71246f
 23c43fd18d2108 = addy3289582cb78f71246f23c43fd18d2108 + 'y&#97;h&#111;&#111
 ;' + '&#46;' + 'c&#111;m';
				var addy_text3289582cb78f71246f23c43fd18d210
 8 = '&#101;lm&#101;r_l&#117;c&#105;ll&#101;_&#97;ll&#101;n' + '&#64;' + 'y&
 #97;h&#111;&#111;' + '&#46;' + 'c&#111;m';document.getElementById('cloak328
 9582cb78f71246f23c43fd18d2108').innerHTML += ''+addy_text3289582cb78f71246f
 23c43fd18d2108+'';
		\nLaura Strickland – 502-574-1779\nWestern Branch Libr
 ary, Manager\nThis email address is being protected from spambots. You need
  JavaScript enabled to view it.
				document.getElementById('cloak34ddec20b
 8b15ac3782125e0e8b0a77d').innerHTML = '';
				var prefix = '&#109;a' + 'i&#
 108;' + '&#116;o';
				var path = 'hr' + 'ef' + '=';
				var addy34ddec20b8
 b15ac3782125e0e8b0a77d = 'L&#97;&#117;r&#97;.str&#105;ckl&#97;nd' + '&#64;'
 ;
				addy34ddec20b8b15ac3782125e0e8b0a77d = addy34ddec20b8b15ac3782125e0e8
 b0a77d + 'lfpl' + '&#46;' + '&#111;rg';
				var addy_text34ddec20b8b15ac378
 2125e0e8b0a77d = 'L&#97;&#117;r&#97;.str&#105;ckl&#97;nd' + '&#64;' + 'lfpl
 ' + '&#46;' + '&#111;rg';document.getElementById('cloak34ddec20b8b15ac37821
 25e0e8b0a77d').innerHTML += ''+addy_text34ddec20b8b15ac3782125e0e8b0a77d+''
 ;
		
DTSTAMP:20260422T071323Z
DTSTART;TZID=America/Kentucky/Louisville:20170323T120000
DTEND;TZID=America/Kentucky/Louisville:20170323T130000
SEQUENCE:0
TRANSP:OPAQUE
END:VEVENT
END:VCALENDAR