BEGIN:VCALENDAR
VERSION:2.0
PRODID:-//jEvents 2.0 for Joomla//EN
CALSCALE:GREGORIAN
METHOD:PUBLISH
BEGIN:VTIMEZONE
TZID:America/Kentucky/Louisville
BEGIN:STANDARD
DTSTART:20160131T120000
RDATE:20160313T030000
TZOFFSETFROM:-0400
TZOFFSETTO:-0500
TZNAME:America/Kentucky/Louisville EST
END:STANDARD
BEGIN:STANDARD
DTSTART:20161106T010000
RDATE:20170312T030000
TZOFFSETFROM:-0400
TZOFFSETTO:-0500
TZNAME:America/Kentucky/Louisville EST
END:STANDARD
BEGIN:STANDARD
DTSTART:20171105T010000
RDATE:20180311T030000
TZOFFSETFROM:-0400
TZOFFSETTO:-0500
TZNAME:America/Kentucky/Louisville EST
END:STANDARD
BEGIN:STANDARD
DTSTART:20181104T010000
RDATE:20190310T030000
TZOFFSETFROM:-0400
TZOFFSETTO:-0500
TZNAME:America/Kentucky/Louisville EST
END:STANDARD
BEGIN:STANDARD
DTSTART:20191103T010000
RDATE:20200308T030000
TZOFFSETFROM:-0400
TZOFFSETTO:-0500
TZNAME:America/Kentucky/Louisville EST
END:STANDARD
BEGIN:STANDARD
DTSTART:20201101T010000
RDATE:20210314T030000
TZOFFSETFROM:-0400
TZOFFSETTO:-0500
TZNAME:America/Kentucky/Louisville EST
END:STANDARD
BEGIN:DAYLIGHT
DTSTART:20160313T030000
RDATE:20161106T010000
TZOFFSETFROM:-0500
TZOFFSETTO:-0400
TZNAME:America/Kentucky/Louisville EDT
END:DAYLIGHT
BEGIN:DAYLIGHT
DTSTART:20170312T030000
RDATE:20171105T010000
TZOFFSETFROM:-0500
TZOFFSETTO:-0400
TZNAME:America/Kentucky/Louisville EDT
END:DAYLIGHT
BEGIN:DAYLIGHT
DTSTART:20180311T030000
RDATE:20181104T010000
TZOFFSETFROM:-0500
TZOFFSETTO:-0400
TZNAME:America/Kentucky/Louisville EDT
END:DAYLIGHT
BEGIN:DAYLIGHT
DTSTART:20190310T030000
RDATE:20191103T010000
TZOFFSETFROM:-0500
TZOFFSETTO:-0400
TZNAME:America/Kentucky/Louisville EDT
END:DAYLIGHT
BEGIN:DAYLIGHT
DTSTART:20200308T030000
RDATE:20201101T010000
TZOFFSETFROM:-0500
TZOFFSETTO:-0400
TZNAME:America/Kentucky/Louisville EDT
END:DAYLIGHT
END:VTIMEZONE
BEGIN:VEVENT
UID:54d820e3287bae3c41d2c269f473db6c
CATEGORIES:Ongoing Community/Organizational Programming
CREATED:20170122T080712
SUMMARY:Redeemer Health & Wellness Outreach: Addiction Awareness
LOCATION:Redeemer Lutheran Church
DESCRIPTION;ENCODING=QUOTED-PRINTABLE:<p>Are you concerned about the &ldquo;heroin epidemic&rdquo;? Do you need t
 o bone up on your knowledge of controlled substances? Do you know someone w
 ho struggles with addiction? Come learn about the drugs, treatment strategi
 es, paraphernalia, and how you can be prepared to deal with this growing pr
 oblem at the Redeemer Health & Wellness Outreach&rsquo;s &ldquo;Addiction A
 wareness!&rdquo;</p><p>Call Redeemer Lutheran Church at 502-776-5945 for Ad
 diction Awareness.</p><p>Week 4 - Drug Use in Our City<br />Week 5 - Start 
 the Heart Hands&mdash;Free CPR Training</p>
DTSTAMP:20260422T105401Z
DTSTART;TZID=America/Kentucky/Louisville:20170131T120000
DTEND;TZID=America/Kentucky/Louisville:20170131T133000
SEQUENCE:0
TRANSP:OPAQUE
END:VEVENT
END:VCALENDAR