BEGIN:VCALENDAR
VERSION:2.0
PRODID:-//jEvents 2.0 for Joomla//EN
CALSCALE:GREGORIAN
METHOD:PUBLISH
BEGIN:VTIMEZONE
TZID:America/Kentucky/Louisville
BEGIN:STANDARD
DTSTART:20160306T130000
RDATE:20160313T030000
TZOFFSETFROM:-0400
TZOFFSETTO:-0500
TZNAME:America/Kentucky/Louisville EST
END:STANDARD
BEGIN:STANDARD
DTSTART:20161106T010000
RDATE:20170312T030000
TZOFFSETFROM:-0400
TZOFFSETTO:-0500
TZNAME:America/Kentucky/Louisville EST
END:STANDARD
BEGIN:STANDARD
DTSTART:20171105T010000
RDATE:20180311T030000
TZOFFSETFROM:-0400
TZOFFSETTO:-0500
TZNAME:America/Kentucky/Louisville EST
END:STANDARD
BEGIN:STANDARD
DTSTART:20181104T010000
RDATE:20190310T030000
TZOFFSETFROM:-0400
TZOFFSETTO:-0500
TZNAME:America/Kentucky/Louisville EST
END:STANDARD
BEGIN:STANDARD
DTSTART:20191103T010000
RDATE:20200308T030000
TZOFFSETFROM:-0400
TZOFFSETTO:-0500
TZNAME:America/Kentucky/Louisville EST
END:STANDARD
BEGIN:STANDARD
DTSTART:20201101T010000
RDATE:20210314T030000
TZOFFSETFROM:-0400
TZOFFSETTO:-0500
TZNAME:America/Kentucky/Louisville EST
END:STANDARD
BEGIN:DAYLIGHT
DTSTART:20160313T030000
RDATE:20161106T010000
TZOFFSETFROM:-0500
TZOFFSETTO:-0400
TZNAME:America/Kentucky/Louisville EDT
END:DAYLIGHT
BEGIN:DAYLIGHT
DTSTART:20170312T030000
RDATE:20171105T010000
TZOFFSETFROM:-0500
TZOFFSETTO:-0400
TZNAME:America/Kentucky/Louisville EDT
END:DAYLIGHT
BEGIN:DAYLIGHT
DTSTART:20180311T030000
RDATE:20181104T010000
TZOFFSETFROM:-0500
TZOFFSETTO:-0400
TZNAME:America/Kentucky/Louisville EDT
END:DAYLIGHT
BEGIN:DAYLIGHT
DTSTART:20190310T030000
RDATE:20191103T010000
TZOFFSETFROM:-0500
TZOFFSETTO:-0400
TZNAME:America/Kentucky/Louisville EDT
END:DAYLIGHT
BEGIN:DAYLIGHT
DTSTART:20200308T030000
RDATE:20201101T010000
TZOFFSETFROM:-0500
TZOFFSETTO:-0400
TZNAME:America/Kentucky/Louisville EDT
END:DAYLIGHT
END:VTIMEZONE
BEGIN:VEVENT
UID:d01d52b98bef4749b29d877ec201c3ce
CATEGORIES:Ongoing Community/Organizational Programming
CREATED:20170122T081221
SUMMARY:Redeemer Health & Wellness Outreach: "Freedom From Smoking"
DESCRIPTION;ENCODING=QUOTED-PRINTABLE:<p>The American Lung Association's Freedom From Smoking® (FFS) program is f
 or adults who are ready to quit smoking. Because most people know that smok
 ing is dangerous to their health, the program focuses on how to quit, not w
 hy to quit.</p><ul><li>The Freedom From Smoking® group clinic consists of e
 ight sessions, nicotine replacement therapy (patches or gum), and workbooks
 , all provided for FREE.</li><li>Please register in advance. Call 574-7867 
 to sign up for the Redeemer class or visit <a href="http://www.louisvilleky
 .gov/health" target="_blank">Louisville Metro Health</a></li><li>You may al
 so call Redeemer Lutheran Church at 502-776-5945 to sign up</li></ul>
DTSTAMP:20260422T072237Z
DTSTART;TZID=America/Kentucky/Louisville:20170307T130000
DTEND;TZID=America/Kentucky/Louisville:20170307T143000
SEQUENCE:0
TRANSP:OPAQUE
END:VEVENT
END:VCALENDAR