BEGIN:VCALENDAR
VERSION:2.0
PRODID:-//jEvents 2.0 for Joomla//EN
CALSCALE:GREGORIAN
METHOD:PUBLISH
BEGIN:VTIMEZONE
TZID:America/Kentucky/Louisville
BEGIN:STANDARD
DTSTART:20161106T010000
RDATE:20170312T030000
TZOFFSETFROM:-0400
TZOFFSETTO:-0500
TZNAME:America/Kentucky/Louisville EST
END:STANDARD
BEGIN:STANDARD
DTSTART:20171105T010000
RDATE:20180311T030000
TZOFFSETFROM:-0400
TZOFFSETTO:-0500
TZNAME:America/Kentucky/Louisville EST
END:STANDARD
BEGIN:STANDARD
DTSTART:20181104T010000
RDATE:20190310T030000
TZOFFSETFROM:-0400
TZOFFSETTO:-0500
TZNAME:America/Kentucky/Louisville EST
END:STANDARD
BEGIN:STANDARD
DTSTART:20191103T010000
RDATE:20200308T030000
TZOFFSETFROM:-0400
TZOFFSETTO:-0500
TZNAME:America/Kentucky/Louisville EST
END:STANDARD
BEGIN:STANDARD
DTSTART:20201101T010000
RDATE:20210314T030000
TZOFFSETFROM:-0400
TZOFFSETTO:-0500
TZNAME:America/Kentucky/Louisville EST
END:STANDARD
BEGIN:DAYLIGHT
DTSTART:20160731T190000
RDATE:20161106T010000
TZOFFSETFROM:-0500
TZOFFSETTO:-0400
TZNAME:America/Kentucky/Louisville EDT
END:DAYLIGHT
BEGIN:DAYLIGHT
DTSTART:20170312T030000
RDATE:20171105T010000
TZOFFSETFROM:-0500
TZOFFSETTO:-0400
TZNAME:America/Kentucky/Louisville EDT
END:DAYLIGHT
BEGIN:DAYLIGHT
DTSTART:20180311T030000
RDATE:20181104T010000
TZOFFSETFROM:-0500
TZOFFSETTO:-0400
TZNAME:America/Kentucky/Louisville EDT
END:DAYLIGHT
BEGIN:DAYLIGHT
DTSTART:20190310T030000
RDATE:20191103T010000
TZOFFSETFROM:-0500
TZOFFSETTO:-0400
TZNAME:America/Kentucky/Louisville EDT
END:DAYLIGHT
BEGIN:DAYLIGHT
DTSTART:20200308T030000
RDATE:20201101T010000
TZOFFSETFROM:-0500
TZOFFSETTO:-0400
TZNAME:America/Kentucky/Louisville EDT
END:DAYLIGHT
END:VTIMEZONE
BEGIN:VEVENT
UID:9e86063f9257801206d9f42ea840b0fb
CATEGORIES:Ongoing Community/Organizational Programming
CREATED:20170122T082209
SUMMARY:MAN UP Tuesdays
LOCATION:822 Renew
DESCRIPTION;ENCODING=QUOTED-PRINTABLE:<h3>&ldquo;Changing The Social Behaviors Of Men&rdquo;<br />Every Tuesday e
 vening through February 24th - 7:00 pm to 8:00 pm<br />822 South 15th Stree
 t</h3><p>MAN UP kicks off 40 Days of Peace Campaign to reduce crime, violen
 ce & murder in 2017 MAN UP will be gathering men from various organizations
  & backgrounds to meet every Tuesday through February 24th during the annua
 l 40 Days of Peace at 822 South 15th Street. Come join with other men who a
 re looking to improve their lives and bring Peace to our Families and Neigh
 borhoods!</p><p>We will have a real & frank discussion among men!</p>
CONTACT:For More Info Contact: Peter Hayes at 502-419-4539 or This email address is being protected from spambots. You need JavaScript enabled to view it.
				document.getElementById('cloak5646f7f5126424b756d0b6456c0ced67').innerHTML = '';
				var prefix = '&#109;a' + 'i&#108;' + '&#116;o';
				var path = 'hr' + 'ef' + '=';
				var addy5646f7f5126424b756d0b6456c0ced67 = 'ph&#97;y&#101;s' + '&#64;';
				addy5646f7f5126424b756d0b6456c0ced67 = addy5646f7f5126424b756d0b6456c0ced67 + 's&#101;rv&#105;c&#101;f&#111;rp&#101;&#97;c&#101;' + '&#46;' + '&#111;rg';
				var addy_text5646f7f5126424b756d0b6456c0ced67 = 'ph&#97;y&#101;s' + '&#64;' + 's&#101;rv&#105;c&#101;f&#111;rp&#101;&#97;c&#101;' + '&#46;' + '&#111;rg';document.getElementById('cloak5646f7f5126424b756d0b6456c0ced67').innerHTML += ''+addy_text5646f7f5126424b756d0b6456c0ced67+'';
		 or visit http://www.serviceforpeace.com
DTSTAMP:20260422T181628Z
DTSTART;TZID=America/Kentucky/Louisville:20170801T190000
DTEND;TZID=America/Kentucky/Louisville:20170801T200000
SEQUENCE:0
TRANSP:OPAQUE
END:VEVENT
END:VCALENDAR