BEGIN:VCALENDAR
VERSION:2.0
PRODID:-//jEvents 2.0 for Joomla//EN
CALSCALE:GREGORIAN
METHOD:PUBLISH
BEGIN:VTIMEZONE
TZID:America/Kentucky/Louisville
BEGIN:STANDARD
DTSTART:20160310T090000
RDATE:20160313T030000
TZOFFSETFROM:-0400
TZOFFSETTO:-0500
TZNAME:America/Kentucky/Louisville EST
END:STANDARD
BEGIN:STANDARD
DTSTART:20161106T010000
RDATE:20170312T030000
TZOFFSETFROM:-0400
TZOFFSETTO:-0500
TZNAME:America/Kentucky/Louisville EST
END:STANDARD
BEGIN:STANDARD
DTSTART:20171105T010000
RDATE:20180311T030000
TZOFFSETFROM:-0400
TZOFFSETTO:-0500
TZNAME:America/Kentucky/Louisville EST
END:STANDARD
BEGIN:STANDARD
DTSTART:20181104T010000
RDATE:20190310T030000
TZOFFSETFROM:-0400
TZOFFSETTO:-0500
TZNAME:America/Kentucky/Louisville EST
END:STANDARD
BEGIN:STANDARD
DTSTART:20191103T010000
RDATE:20200308T030000
TZOFFSETFROM:-0400
TZOFFSETTO:-0500
TZNAME:America/Kentucky/Louisville EST
END:STANDARD
BEGIN:STANDARD
DTSTART:20201101T010000
RDATE:20210314T030000
TZOFFSETFROM:-0400
TZOFFSETTO:-0500
TZNAME:America/Kentucky/Louisville EST
END:STANDARD
BEGIN:DAYLIGHT
DTSTART:20160313T030000
RDATE:20161106T010000
TZOFFSETFROM:-0500
TZOFFSETTO:-0400
TZNAME:America/Kentucky/Louisville EDT
END:DAYLIGHT
BEGIN:DAYLIGHT
DTSTART:20170312T030000
RDATE:20171105T010000
TZOFFSETFROM:-0500
TZOFFSETTO:-0400
TZNAME:America/Kentucky/Louisville EDT
END:DAYLIGHT
BEGIN:DAYLIGHT
DTSTART:20180311T030000
RDATE:20181104T010000
TZOFFSETFROM:-0500
TZOFFSETTO:-0400
TZNAME:America/Kentucky/Louisville EDT
END:DAYLIGHT
BEGIN:DAYLIGHT
DTSTART:20190310T030000
RDATE:20191103T010000
TZOFFSETFROM:-0500
TZOFFSETTO:-0400
TZNAME:America/Kentucky/Louisville EDT
END:DAYLIGHT
BEGIN:DAYLIGHT
DTSTART:20200308T030000
RDATE:20201101T010000
TZOFFSETFROM:-0500
TZOFFSETTO:-0400
TZNAME:America/Kentucky/Louisville EDT
END:DAYLIGHT
END:VTIMEZONE
BEGIN:VEVENT
UID:7d897955216e3e66f34629b68fcb84c2
CATEGORIES:Government - Louisville Metro/State/Federal
CREATED:20170201T030501
SUMMARY:Meet Your Legislator at the Louisville Free Public Library
DESCRIPTION;ENCODING=QUOTED-PRINTABLE:\n\n \n\n\nThe Café LOUIE events bring elected officials and their constitu
 ents together at all 18 locations of the Louisville Free Public Library. Th
 ese informal meetings take place on Saturday mornings from 9:00 am to 10 am
 . Legislators include state representatives and senators along with Metro C
 ouncil and suburban city elected officials.\n\n\nTo view all Meet Your Legi
 slator dates please visit http://www.aclu-ky.org/events/event/cafe-louie-me
 et-your-legislators/\n\n\nUpcoming District 5 Café LOUIE Dates\n\n\nSaturda
 y, March 11th - Portland Library - Councilwoman Cheri Bryant Hamilton\n\n\n
 Saturday, March 18th - Shawnee Library - Councilwoman Cheri Bryant Hamilton
 \n
DTSTAMP:20260422T071203Z
DTSTART;TZID=America/Kentucky/Louisville:20170311T090000
DTEND;TZID=America/Kentucky/Louisville:20170311T100000
SEQUENCE:0
TRANSP:OPAQUE
END:VEVENT
END:VCALENDAR