BEGIN:VCALENDAR
VERSION:2.0
PRODID:-//jEvents 2.0 for Joomla//EN
CALSCALE:GREGORIAN
METHOD:PUBLISH
BEGIN:VTIMEZONE
TZID:America/Kentucky/Louisville
BEGIN:STANDARD
DTSTART:20161106T010000
RDATE:20170312T030000
TZOFFSETFROM:-0400
TZOFFSETTO:-0500
TZNAME:America/Kentucky/Louisville EST
END:STANDARD
BEGIN:STANDARD
DTSTART:20171105T010000
RDATE:20180311T030000
TZOFFSETFROM:-0400
TZOFFSETTO:-0500
TZNAME:America/Kentucky/Louisville EST
END:STANDARD
BEGIN:STANDARD
DTSTART:20181104T010000
RDATE:20190310T030000
TZOFFSETFROM:-0400
TZOFFSETTO:-0500
TZNAME:America/Kentucky/Louisville EST
END:STANDARD
BEGIN:STANDARD
DTSTART:20191103T010000
RDATE:20200308T030000
TZOFFSETFROM:-0400
TZOFFSETTO:-0500
TZNAME:America/Kentucky/Louisville EST
END:STANDARD
BEGIN:STANDARD
DTSTART:20201101T010000
RDATE:20210314T030000
TZOFFSETFROM:-0400
TZOFFSETTO:-0500
TZNAME:America/Kentucky/Louisville EST
END:STANDARD
BEGIN:DAYLIGHT
DTSTART:20160630T190000
RDATE:20161106T010000
TZOFFSETFROM:-0500
TZOFFSETTO:-0400
TZNAME:America/Kentucky/Louisville EDT
END:DAYLIGHT
BEGIN:DAYLIGHT
DTSTART:20170312T030000
RDATE:20171105T010000
TZOFFSETFROM:-0500
TZOFFSETTO:-0400
TZNAME:America/Kentucky/Louisville EDT
END:DAYLIGHT
BEGIN:DAYLIGHT
DTSTART:20180311T030000
RDATE:20181104T010000
TZOFFSETFROM:-0500
TZOFFSETTO:-0400
TZNAME:America/Kentucky/Louisville EDT
END:DAYLIGHT
BEGIN:DAYLIGHT
DTSTART:20190310T030000
RDATE:20191103T010000
TZOFFSETFROM:-0500
TZOFFSETTO:-0400
TZNAME:America/Kentucky/Louisville EDT
END:DAYLIGHT
BEGIN:DAYLIGHT
DTSTART:20200308T030000
RDATE:20201101T010000
TZOFFSETFROM:-0500
TZOFFSETTO:-0400
TZNAME:America/Kentucky/Louisville EDT
END:DAYLIGHT
END:VTIMEZONE
BEGIN:VEVENT
UID:9baa384897d978febcd75ab001b68697
CATEGORIES:Ongoing Community/Organizational Programming
CREATED:20170505T010124
SUMMARY:Russell Neighborhood Association Meeting
LOCATION:528 S. 18th Street
DESCRIPTION;ENCODING=QUOTED-PRINTABLE:\n\nHaven Harrington will be hosting monthly Russell Neighborhood Associati
 on meetings the first Saturday of the month at 528 S. 18th Street. \n
CONTACT:Call 502-457-2785 or e-mail This email address is being protected from spambots. You need JavaScript enabled to view it.
				document.getElementById('cloaka05f6d10c1f3c204d23e350c01245ece').innerHTML = '';
				var prefix = '&#109;a' + 'i&#108;' + '&#116;o';
				var path = 'hr' + 'ef' + '=';
				var addya05f6d10c1f3c204d23e350c01245ece = 'hh&#97;rr&#105;ngt&#111;n' + '&#64;';
				addya05f6d10c1f3c204d23e350c01245ece = addya05f6d10c1f3c204d23e350c01245ece + 'm&#97;&#105;n&#101;v&#101;ntsp&#111;rts101' + '&#46;' + 'c&#111;m';
				var addy_texta05f6d10c1f3c204d23e350c01245ece = 'hh&#97;rr&#105;ngt&#111;n' + '&#64;' + 'm&#97;&#105;n&#101;v&#101;ntsp&#111;rts101' + '&#46;' + 'c&#111;m';document.getElementById('cloaka05f6d10c1f3c204d23e350c01245ece').innerHTML += ''+addy_texta05f6d10c1f3c204d23e350c01245ece+'';
		 for more information.
DTSTAMP:20260422T144235Z
DTSTART;TZID=America/Kentucky/Louisville:20170701T190000
DTEND;TZID=America/Kentucky/Louisville:20170701T200000
SEQUENCE:0
TRANSP:OPAQUE
END:VEVENT
END:VCALENDAR